BEGIN:VCALENDAR
VERSION:1.0
BEGIN:VEVENT
DTSTART:20250609T202000
DTEND:20250609T210000
SUMMARY:Ecklund/Fleming vs. Thompson/Thompson
DESCRIPTION:DDTC - Monday High Intermediate Lg. - EarlySummer25 - Paddle Up Pickleball Club
LOCATION:DDTC Court 11S
CATEGORIES:QuickScores; Pickleball Game
TRANSP:0
DALARM:20250609T182000;PT10M;2;Ecklund/Fleming vs. Thompson/Thompson
END:VEVENT
BEGIN:VEVENT
DTSTART:20250609T210000
DTEND:20250609T214000
SUMMARY:Ecklund/Fleming vs. Flinn/Turner
DESCRIPTION:DDTC - Monday High Intermediate Lg. - EarlySummer25 - Paddle Up Pickleball Club
LOCATION:DDTC Court 11S
CATEGORIES:QuickScores; Pickleball Game
TRANSP:0
DALARM:20250609T190000;PT10M;2;Ecklund/Fleming vs. Flinn/Turner
END:VEVENT
BEGIN:VEVENT
DTSTART:20250616T194000
DTEND:20250616T202000
SUMMARY:Ecklund/Fleming vs. Phalke/Veqar
DESCRIPTION:DDTC - Monday High Intermediate Lg. - EarlySummer25 - Paddle Up Pickleball Club
LOCATION:DDTC Court 11S
CATEGORIES:QuickScores; Pickleball Game
TRANSP:0
DALARM:20250616T174000;PT10M;2;Ecklund/Fleming vs. Phalke/Veqar
END:VEVENT
BEGIN:VEVENT
DTSTART:20250616T210000
DTEND:20250616T214000
SUMMARY:Ecklund/Fleming vs. Ferrell/Ott
DESCRIPTION:DDTC - Monday High Intermediate Lg. - EarlySummer25 - Paddle Up Pickleball Club
LOCATION:DDTC Court 11N
CATEGORIES:QuickScores; Pickleball Game
TRANSP:0
DALARM:20250616T190000;PT10M;2;Ecklund/Fleming vs. Ferrell/Ott
END:VEVENT
BEGIN:VEVENT
DTSTART:20250623T174000
DTEND:20250623T182000
SUMMARY:Kirkpatrick/Kirkpatrick vs. Ecklund/Fleming
DESCRIPTION:DDTC - Monday High Intermediate Lg. - EarlySummer25 - Paddle Up Pickleball Club
LOCATION:DDTC Court 11S
CATEGORIES:QuickScores; Pickleball Game
TRANSP:0
DALARM:20250623T154000;PT10M;2;Kirkpatrick/Kirkpatrick vs. Ecklund/Fleming
END:VEVENT
BEGIN:VEVENT
DTSTART:20250623T182000
DTEND:20250623T190000
SUMMARY:Ecklund/Fleming vs. Huether/Crissup2
DESCRIPTION:DDTC - Monday High Intermediate Lg. - EarlySummer25 - Paddle Up Pickleball Club
LOCATION:DDTC Court 12N
CATEGORIES:QuickScores; Pickleball Game
TRANSP:0
DALARM:20250623T162000;PT10M;2;Ecklund/Fleming vs. Huether/Crissup2
END:VEVENT
BEGIN:VEVENT
DTSTART:20250630T194000
DTEND:20250630T202000
SUMMARY:Gorman/Gorman vs. Ecklund/Fleming
DESCRIPTION:DDTC - Monday High Intermediate Lg. - EarlySummer25 - Paddle Up Pickleball Club
LOCATION:DDTC Court 22
CATEGORIES:QuickScores; Pickleball Game
TRANSP:0
DALARM:20250630T174000;PT10M;2;Gorman/Gorman vs. Ecklund/Fleming
END:VEVENT
BEGIN:VEVENT
DTSTART:20250630T210000
DTEND:20250630T214000
SUMMARY:Falconi/Tin vs. Ecklund/Fleming
DESCRIPTION:DDTC - Monday High Intermediate Lg. - EarlySummer25 - Paddle Up Pickleball Club
LOCATION:DDTC Court 22
CATEGORIES:QuickScores; Pickleball Game
TRANSP:0
DALARM:20250630T190000;PT10M;2;Falconi/Tin vs. Ecklund/Fleming
END:VEVENT
BEGIN:VEVENT
DTSTART:20250707T174000
DTEND:20250707T182000
SUMMARY:Flinn/Turner vs. Ecklund/Fleming
DESCRIPTION:DDTC - Monday High Intermediate Lg. - EarlySummer25 - Paddle Up Pickleball Club
LOCATION:DDTC Court 11N
CATEGORIES:QuickScores; Pickleball Game
TRANSP:0
DALARM:20250707T154000;PT10M;2;Flinn/Turner vs. Ecklund/Fleming
END:VEVENT
BEGIN:VEVENT
DTSTART:20250707T182000
DTEND:20250707T190000
SUMMARY:Ferrell/Ott vs. Ecklund/Fleming
DESCRIPTION:DDTC - Monday High Intermediate Lg. - EarlySummer25 - Paddle Up Pickleball Club
LOCATION:DDTC Court 22
CATEGORIES:QuickScores; Pickleball Game
TRANSP:0
DALARM:20250707T162000;PT10M;2;Ferrell/Ott vs. Ecklund/Fleming
END:VEVENT
END:VCALENDAR
