BEGIN:VCALENDAR
VERSION:1.0
BEGIN:VEVENT
DTSTART:20250603T184000
DTEND:20250603T192000
SUMMARY:Sigman/Luke vs. Girwood/Morgan
DESCRIPTION:PUPC Tuesday Night High Int. League - EarlySummer25 - Paddle Up Pickleball Club
LOCATION:Court 8
CATEGORIES:QuickScores; Pickleball Game
TRANSP:0
DALARM:20250603T164000;PT10M;2;Sigman/Luke vs. Girwood/Morgan
END:VEVENT
BEGIN:VEVENT
DTSTART:20250603T192000
DTEND:20250603T200000
SUMMARY:Sims/Bischof vs. Sigman/Luke
DESCRIPTION:PUPC Tuesday Night High Int. League - EarlySummer25 - Paddle Up Pickleball Club
LOCATION:Court 7
CATEGORIES:QuickScores; Pickleball Game
TRANSP:0
DALARM:20250603T172000;PT10M;2;Sims/Bischof vs. Sigman/Luke
END:VEVENT
BEGIN:VEVENT
DTSTART:20250610T172000
DTEND:20250610T180000
SUMMARY:Sigman/Cornett vs. Sigman/Luke
DESCRIPTION:PUPC Tuesday Night High Int. League - EarlySummer25 - Paddle Up Pickleball Club
LOCATION:Court 7
CATEGORIES:QuickScores; Pickleball Game
TRANSP:0
DALARM:20250610T152000;PT10M;2;Sigman/Cornett vs. Sigman/Luke
END:VEVENT
BEGIN:VEVENT
DTSTART:20250610T180000
DTEND:20250610T184000
SUMMARY:Sigman/Luke vs. Merrifield/Scognamiglio
DESCRIPTION:PUPC Tuesday Night High Int. League - EarlySummer25 - Paddle Up Pickleball Club
LOCATION:Court 7
CATEGORIES:QuickScores; Pickleball Game
TRANSP:0
DALARM:20250610T160000;PT10M;2;Sigman/Luke vs. Merrifield/Scognamiglio
END:VEVENT
BEGIN:VEVENT
DTSTART:20250617T172000
DTEND:20250617T180000
SUMMARY:Bodmer/O'Keefe vs. Sigman/Luke
DESCRIPTION:PUPC Tuesday Night High Int. League - EarlySummer25 - Paddle Up Pickleball Club
LOCATION:Court 7
CATEGORIES:QuickScores; Pickleball Game
TRANSP:0
DALARM:20250617T152000;PT10M;2;Bodmer/O'Keefe vs. Sigman/Luke
END:VEVENT
BEGIN:VEVENT
DTSTART:20250617T180000
DTEND:20250617T184000
SUMMARY:Sigman/Luke vs. Durham/Rosenberger
DESCRIPTION:PUPC Tuesday Night High Int. League - EarlySummer25 - Paddle Up Pickleball Club
LOCATION:Court 7
CATEGORIES:QuickScores; Pickleball Game
TRANSP:0
DALARM:20250617T160000;PT10M;2;Sigman/Luke vs. Durham/Rosenberger
END:VEVENT
BEGIN:VEVENT
DTSTART:20250624T184000
DTEND:20250624T192000
SUMMARY:Sigman/Luke vs. Sims/Bischof
DESCRIPTION:PUPC Tuesday Night High Int. League - EarlySummer25 - Paddle Up Pickleball Club
LOCATION:Court 7
CATEGORIES:QuickScores; Pickleball Game
TRANSP:0
DALARM:20250624T164000;PT10M;2;Sigman/Luke vs. Sims/Bischof
END:VEVENT
BEGIN:VEVENT
DTSTART:20250624T192000
DTEND:20250624T200000
SUMMARY:Girwood/Morgan vs. Sigman/Luke
DESCRIPTION:PUPC Tuesday Night High Int. League - EarlySummer25 - Paddle Up Pickleball Club
LOCATION:Court 7
CATEGORIES:QuickScores; Pickleball Game
TRANSP:0
DALARM:20250624T172000;PT10M;2;Girwood/Morgan vs. Sigman/Luke
END:VEVENT
BEGIN:VEVENT
DTSTART:20250701T180000
DTEND:20250701T184000
SUMMARY:Merrifield/Scognamiglio vs. Sigman/Luke
DESCRIPTION:PUPC Tuesday Night High Int. League - EarlySummer25 - Paddle Up Pickleball Club
LOCATION:Court 8
CATEGORIES:QuickScores; Pickleball Game
TRANSP:0
DALARM:20250701T160000;PT10M;2;Merrifield/Scognamiglio vs. Sigman/Luke
END:VEVENT
BEGIN:VEVENT
DTSTART:20250701T192000
DTEND:20250701T200000
SUMMARY:Sigman/Luke vs. Sigman/Cornett
DESCRIPTION:PUPC Tuesday Night High Int. League - EarlySummer25 - Paddle Up Pickleball Club
LOCATION:Court 8
CATEGORIES:QuickScores; Pickleball Game
TRANSP:0
DALARM:20250701T172000;PT10M;2;Sigman/Luke vs. Sigman/Cornett
END:VEVENT
BEGIN:VEVENT
DTSTART:20250708T180000
DTEND:20250708T183000
SUMMARY:Sigman/Luke vs. Durham/Rosenberger
DESCRIPTION:PUPC Tuesday Night High Int. League - EarlySummer25 - Paddle Up Pickleball Club
LOCATION:Court 8
CATEGORIES:QuickScores; Pickleball Game
TRANSP:0
DALARM:20250708T160000;PT10M;2;Sigman/Luke vs. Durham/Rosenberger
END:VEVENT
BEGIN:VEVENT
DTSTART:20250708T183000
DTEND:20250708T190000
SUMMARY:Girdwood/Morgan vs. Sigman/Luke
DESCRIPTION:PUPC Tuesday Night High Int. League - EarlySummer25 - Paddle Up Pickleball Club
LOCATION:Court 8
CATEGORIES:QuickScores; Pickleball Game
TRANSP:0
DALARM:20250708T163000;PT10M;2;Girdwood/Morgan vs. Sigman/Luke
END:VEVENT
END:VCALENDAR
