BEGIN:VCALENDAR
VERSION:1.0
BEGIN:VEVENT
DTSTART:20250603T184000
DTEND:20250603T192000
SUMMARY:Sigman/Luke vs. Girwood/Morgan
DESCRIPTION:PUPC Tuesday Night High Int. League - EarlySummer25 - Paddle Up Pickleball Club
LOCATION:Court 8
CATEGORIES:QuickScores; Pickleball Game
TRANSP:0
DALARM:20250603T164000;PT10M;2;Sigman/Luke vs. Girwood/Morgan
END:VEVENT
BEGIN:VEVENT
DTSTART:20250603T192000
DTEND:20250603T200000
SUMMARY:Girwood/Morgan vs. Durham/Rosenberger
DESCRIPTION:PUPC Tuesday Night High Int. League - EarlySummer25 - Paddle Up Pickleball Club
LOCATION:Court 8
CATEGORIES:QuickScores; Pickleball Game
TRANSP:0
DALARM:20250603T172000;PT10M;2;Girwood/Morgan vs. Durham/Rosenberger
END:VEVENT
BEGIN:VEVENT
DTSTART:20250610T180000
DTEND:20250610T184000
SUMMARY:Girwood/Morgan vs. Sigman/Cornett
DESCRIPTION:PUPC Tuesday Night High Int. League - EarlySummer25 - Paddle Up Pickleball Club
LOCATION:Court 8
CATEGORIES:QuickScores; Pickleball Game
TRANSP:0
DALARM:20250610T160000;PT10M;2;Girwood/Morgan vs. Sigman/Cornett
END:VEVENT
BEGIN:VEVENT
DTSTART:20250610T192000
DTEND:20250610T200000
SUMMARY:Bodmer/O'Keefe vs. Girwood/Morgan
DESCRIPTION:PUPC Tuesday Night High Int. League - EarlySummer25 - Paddle Up Pickleball Club
LOCATION:Court 8
CATEGORIES:QuickScores; Pickleball Game
TRANSP:0
DALARM:20250610T172000;PT10M;2;Bodmer/O'Keefe vs. Girwood/Morgan
END:VEVENT
BEGIN:VEVENT
DTSTART:20250617T184000
DTEND:20250617T192000
SUMMARY:Sims/Bischof vs. Girwood/Morgan
DESCRIPTION:PUPC Tuesday Night High Int. League - EarlySummer25 - Paddle Up Pickleball Club
LOCATION:Court 8
CATEGORIES:QuickScores; Pickleball Game
TRANSP:0
DALARM:20250617T164000;PT10M;2;Sims/Bischof vs. Girwood/Morgan
END:VEVENT
BEGIN:VEVENT
DTSTART:20250617T192000
DTEND:20250617T200000
SUMMARY:Girwood/Morgan vs. Merrifield/Scognamiglio
DESCRIPTION:PUPC Tuesday Night High Int. League - EarlySummer25 - Paddle Up Pickleball Club
LOCATION:Court 8
CATEGORIES:QuickScores; Pickleball Game
TRANSP:0
DALARM:20250617T172000;PT10M;2;Girwood/Morgan vs. Merrifield/Scognamiglio
END:VEVENT
BEGIN:VEVENT
DTSTART:20250624T184000
DTEND:20250624T192000
SUMMARY:Durham/Rosenberger vs. Girwood/Morgan
DESCRIPTION:PUPC Tuesday Night High Int. League - EarlySummer25 - Paddle Up Pickleball Club
LOCATION:Court 8
CATEGORIES:QuickScores; Pickleball Game
TRANSP:0
DALARM:20250624T164000;PT10M;2;Durham/Rosenberger vs. Girwood/Morgan
END:VEVENT
BEGIN:VEVENT
DTSTART:20250624T192000
DTEND:20250624T200000
SUMMARY:Girwood/Morgan vs. Sigman/Luke
DESCRIPTION:PUPC Tuesday Night High Int. League - EarlySummer25 - Paddle Up Pickleball Club
LOCATION:Court 7
CATEGORIES:QuickScores; Pickleball Game
TRANSP:0
DALARM:20250624T172000;PT10M;2;Girwood/Morgan vs. Sigman/Luke
END:VEVENT
BEGIN:VEVENT
DTSTART:20250701T184000
DTEND:20250701T192000
SUMMARY:Sigman/Cornett vs. Girwood/Morgan
DESCRIPTION:PUPC Tuesday Night High Int. League - EarlySummer25 - Paddle Up Pickleball Club
LOCATION:Court 8
CATEGORIES:QuickScores; Pickleball Game
TRANSP:0
DALARM:20250701T164000;PT10M;2;Sigman/Cornett vs. Girwood/Morgan
END:VEVENT
BEGIN:VEVENT
DTSTART:20250701T192000
DTEND:20250701T200000
SUMMARY:Girwood/Morgan vs. Bodmer/O'Keefe
DESCRIPTION:PUPC Tuesday Night High Int. League - EarlySummer25 - Paddle Up Pickleball Club
LOCATION:Court 7
CATEGORIES:QuickScores; Pickleball Game
TRANSP:0
DALARM:20250701T172000;PT10M;2;Girwood/Morgan vs. Bodmer/O'Keefe
END:VEVENT
END:VCALENDAR
