BEGIN:VCALENDAR
VERSION:1.0
BEGIN:VEVENT
DTSTART:20250530T190000
DTEND:20250530T192000
SUMMARY:Nicholas Martin vs. Kayleigh Trokey
DESCRIPTION:Memorial Day Tournament Singles - 5/30 (6:30PM) - Paddle Up Pickleball Club
LOCATION:Court 4
CATEGORIES:QuickScores; Pickleball Game
TRANSP:0
DALARM:20250530T170000;PT10M;2;Nicholas Martin vs. Kayleigh Trokey
END:VEVENT
BEGIN:VEVENT
DTSTART:20250530T192000
DTEND:20250530T194000
SUMMARY:Keaton Harris vs. Nicholas Martin
DESCRIPTION:Memorial Day Tournament Singles - 5/30 (6:30PM) - Paddle Up Pickleball Club
LOCATION:Court 9
CATEGORIES:QuickScores; Pickleball Game
TRANSP:0
DALARM:20250530T172000;PT10M;2;Keaton Harris vs. Nicholas Martin
END:VEVENT
BEGIN:VEVENT
DTSTART:20250530T194000
DTEND:20250530T200000
SUMMARY:Ken Trokey vs. Nicholas Martin
DESCRIPTION:Memorial Day Tournament Singles - 5/30 (6:30PM) - Paddle Up Pickleball Club
LOCATION:Court 4
CATEGORIES:QuickScores; Pickleball Game
TRANSP:0
DALARM:20250530T174000;PT10M;2;Ken Trokey vs. Nicholas Martin
END:VEVENT
BEGIN:VEVENT
DTSTART:20250530T200000
DTEND:20250530T202000
SUMMARY:Nicholas Martin vs. Brandon Pollard
DESCRIPTION:Memorial Day Tournament Singles - 5/30 (6:30PM) - Paddle Up Pickleball Club
LOCATION:Court 7
CATEGORIES:QuickScores; Pickleball Game
TRANSP:0
DALARM:20250530T180000;PT10M;2;Nicholas Martin vs. Brandon Pollard
END:VEVENT
BEGIN:VEVENT
DTSTART:20250530T202000
DTEND:20250530T204000
SUMMARY:Curtis Stout vs. Nicholas Martin
DESCRIPTION:Memorial Day Tournament Singles - 5/30 (6:30PM) - Paddle Up Pickleball Club
LOCATION:Court 4
CATEGORIES:QuickScores; Pickleball Game
TRANSP:0
DALARM:20250530T182000;PT10M;2;Curtis Stout vs. Nicholas Martin
END:VEVENT
END:VCALENDAR
