BEGIN:VCALENDAR
VERSION:1.0
BEGIN:VEVENT
DTSTART:20250530T184000
DTEND:20250530T190000
SUMMARY:Matthew Trokey vs. Jon Richert
DESCRIPTION:Memorial Day Tournament Singles - 5/30 (6:30PM) - Paddle Up Pickleball Club
LOCATION:Court 4
CATEGORIES:QuickScores; Pickleball Game
TRANSP:0
DALARM:20250530T164000;PT10M;2;Matthew Trokey vs. Jon Richert
END:VEVENT
BEGIN:VEVENT
DTSTART:20250530T190000
DTEND:20250530T192000
SUMMARY:Jon Richert vs. Kom Divanbeigi
DESCRIPTION:Memorial Day Tournament Singles - 5/30 (6:30PM) - Paddle Up Pickleball Club
LOCATION:Court 2
CATEGORIES:QuickScores; Pickleball Game
TRANSP:0
DALARM:20250530T170000;PT10M;2;Jon Richert vs. Kom Divanbeigi
END:VEVENT
BEGIN:VEVENT
DTSTART:20250530T192000
DTEND:20250530T194000
SUMMARY:Jon Richert vs. Jack Geniesse
DESCRIPTION:Memorial Day Tournament Singles - 5/30 (6:30PM) - Paddle Up Pickleball Club
LOCATION:Court 5
CATEGORIES:QuickScores; Pickleball Game
TRANSP:0
DALARM:20250530T172000;PT10M;2;Jon Richert vs. Jack Geniesse
END:VEVENT
BEGIN:VEVENT
DTSTART:20250530T194000
DTEND:20250530T200000
SUMMARY:Jon Richert vs. Jon Harris
DESCRIPTION:Memorial Day Tournament Singles - 5/30 (6:30PM) - Paddle Up Pickleball Club
LOCATION:Court 8
CATEGORIES:QuickScores; Pickleball Game
TRANSP:0
DALARM:20250530T174000;PT10M;2;Jon Richert vs. Jon Harris
END:VEVENT
BEGIN:VEVENT
DTSTART:20250530T200000
DTEND:20250530T202000
SUMMARY:Chase Blickhan vs. Jon Richert
DESCRIPTION:Memorial Day Tournament Singles - 5/30 (6:30PM) - Paddle Up Pickleball Club
LOCATION:Court 4
CATEGORIES:QuickScores; Pickleball Game
TRANSP:0
DALARM:20250530T180000;PT10M;2;Chase Blickhan vs. Jon Richert
END:VEVENT
END:VCALENDAR
