BEGIN:VCALENDAR
VERSION:1.0
BEGIN:VEVENT
DTSTART:20250530T184000
DTEND:20250530T190000
SUMMARY:Kayleigh Trokey vs. Mike Parker
DESCRIPTION:Memorial Day Tournament Singles - 5/30 (6:30PM) - Paddle Up Pickleball Club
LOCATION:Court 7
CATEGORIES:QuickScores; Pickleball Game
TRANSP:0
DALARM:20250530T164000;PT10M;2;Kayleigh Trokey vs. Mike Parker
END:VEVENT
BEGIN:VEVENT
DTSTART:20250530T190000
DTEND:20250530T192000
SUMMARY:Mike Parker vs. Keaton Harris
DESCRIPTION:Memorial Day Tournament Singles - 5/30 (6:30PM) - Paddle Up Pickleball Club
LOCATION:Court 7
CATEGORIES:QuickScores; Pickleball Game
TRANSP:0
DALARM:20250530T170000;PT10M;2;Mike Parker vs. Keaton Harris
END:VEVENT
BEGIN:VEVENT
DTSTART:20250530T192000
DTEND:20250530T194000
SUMMARY:Mike Parker vs. Brandon Pollard
DESCRIPTION:Memorial Day Tournament Singles - 5/30 (6:30PM) - Paddle Up Pickleball Club
LOCATION:Court 8
CATEGORIES:QuickScores; Pickleball Game
TRANSP:0
DALARM:20250530T172000;PT10M;2;Mike Parker vs. Brandon Pollard
END:VEVENT
BEGIN:VEVENT
DTSTART:20250530T194000
DTEND:20250530T200000
SUMMARY:Curtis Stout vs. Mike Parker
DESCRIPTION:Memorial Day Tournament Singles - 5/30 (6:30PM) - Paddle Up Pickleball Club
LOCATION:Court 2
CATEGORIES:QuickScores; Pickleball Game
TRANSP:0
DALARM:20250530T174000;PT10M;2;Curtis Stout vs. Mike Parker
END:VEVENT
BEGIN:VEVENT
DTSTART:20250530T200000
DTEND:20250530T202000
SUMMARY:Ken Trokey vs. Mike Parker
DESCRIPTION:Memorial Day Tournament Singles - 5/30 (6:30PM) - Paddle Up Pickleball Club
LOCATION:Court 5
CATEGORIES:QuickScores; Pickleball Game
TRANSP:0
DALARM:20250530T180000;PT10M;2;Ken Trokey vs. Mike Parker
END:VEVENT
END:VCALENDAR
