BEGIN:VCALENDAR
VERSION:1.0
BEGIN:VEVENT
DTSTART:20250418T191000
DTEND:20250418T193000
SUMMARY:Howard/Rothermich vs. Martin/Nichols
DESCRIPTION:PUPC Friday Night Tournament - 4/18 - Paddle Up Pickleball Club
LOCATION:Court 7
CATEGORIES:QuickScores; Pickleball Game
TRANSP:0
DALARM:20250418T171000;PT10M;2;Howard/Rothermich vs. Martin/Nichols
END:VEVENT
BEGIN:VEVENT
DTSTART:20250418T193000
DTEND:20250418T195000
SUMMARY:Sevilla/DeLuca vs. Howard/Rothermich
DESCRIPTION:PUPC Friday Night Tournament - 4/18 - Paddle Up Pickleball Club
LOCATION:Court 6
CATEGORIES:QuickScores; Pickleball Game
TRANSP:0
DALARM:20250418T173000;PT10M;2;Sevilla/DeLuca vs. Howard/Rothermich
END:VEVENT
BEGIN:VEVENT
DTSTART:20250418T201000
DTEND:20250418T203000
SUMMARY:Fleming/Fleming vs. Howard/Rothermich
DESCRIPTION:PUPC Friday Night Tournament - 4/18 - Paddle Up Pickleball Club
LOCATION:Court 4
CATEGORIES:QuickScores; Pickleball Game
TRANSP:0
DALARM:20250418T181000;PT10M;2;Fleming/Fleming vs. Howard/Rothermich
END:VEVENT
BEGIN:VEVENT
DTSTART:20250418T203000
DTEND:20250418T205000
SUMMARY:Howard/Rothermich vs. Brown/Langlois
DESCRIPTION:PUPC Friday Night Tournament - 4/18 - Paddle Up Pickleball Club
LOCATION:Court 4
CATEGORIES:QuickScores; Pickleball Game
TRANSP:0
DALARM:20250418T183000;PT10M;2;Howard/Rothermich vs. Brown/Langlois
END:VEVENT
END:VCALENDAR
