BEGIN:VCALENDAR
VERSION:1.0
BEGIN:VEVENT
DTSTART:20250418T191000
DTEND:20250418T193000
SUMMARY:Sevilla/DeLuca vs. Brown/Langlois
DESCRIPTION:PUPC Friday Night Tournament - 4/18 - Paddle Up Pickleball Club
LOCATION:Court 5
CATEGORIES:QuickScores; Pickleball Game
TRANSP:0
DALARM:20250418T171000;PT10M;2;Sevilla/DeLuca vs. Brown/Langlois
END:VEVENT
BEGIN:VEVENT
DTSTART:20250418T193000
DTEND:20250418T195000
SUMMARY:Sevilla/DeLuca vs. Howard/Rothermich
DESCRIPTION:PUPC Friday Night Tournament - 4/18 - Paddle Up Pickleball Club
LOCATION:Court 6
CATEGORIES:QuickScores; Pickleball Game
TRANSP:0
DALARM:20250418T173000;PT10M;2;Sevilla/DeLuca vs. Howard/Rothermich
END:VEVENT
BEGIN:VEVENT
DTSTART:20250418T195000
DTEND:20250418T201000
SUMMARY:Fleming/Fleming vs. Sevilla/DeLuca
DESCRIPTION:PUPC Friday Night Tournament - 4/18 - Paddle Up Pickleball Club
LOCATION:Court 4
CATEGORIES:QuickScores; Pickleball Game
TRANSP:0
DALARM:20250418T175000;PT10M;2;Fleming/Fleming vs. Sevilla/DeLuca
END:VEVENT
BEGIN:VEVENT
DTSTART:20250418T201000
DTEND:20250418T203000
SUMMARY:Martin/Nichols vs. Sevilla/DeLuca
DESCRIPTION:PUPC Friday Night Tournament - 4/18 - Paddle Up Pickleball Club
LOCATION:Court 5
CATEGORIES:QuickScores; Pickleball Game
TRANSP:0
DALARM:20250418T181000;PT10M;2;Martin/Nichols vs. Sevilla/DeLuca
END:VEVENT
END:VCALENDAR
