BEGIN:VCALENDAR
VERSION:1.0
BEGIN:VEVENT
DTSTART:20250407T200000
DTEND:20250407T204000
SUMMARY:Daigh/Andereck vs. Harman/Fisher
DESCRIPTION:DDTC Monday Low Intermediate Lg. - Spring 25 - Paddle Up Pickleball Club
LOCATION:DDTC Court 14N
CATEGORIES:QuickScores; Pickleball Game
TRANSP:0
DALARM:20250407T180000;PT10M;2;Daigh/Andereck vs. Harman/Fisher
END:VEVENT
BEGIN:VEVENT
DTSTART:20250407T204000
DTEND:20250407T212000
SUMMARY:Harman/Fisher vs. Cook/Schulte
DESCRIPTION:DDTC Monday Low Intermediate Lg. - Spring 25 - Paddle Up Pickleball Club
LOCATION:DDTC Court 13S
CATEGORIES:QuickScores; Pickleball Game
TRANSP:0
DALARM:20250407T184000;PT10M;2;Harman/Fisher vs. Cook/Schulte
END:VEVENT
BEGIN:VEVENT
DTSTART:20250414T202000
DTEND:20250414T210000
SUMMARY:Harman/Fisher vs. Harper/Harper
DESCRIPTION:DDTC Monday Low Intermediate Lg. - Spring 25 - Paddle Up Pickleball Club
LOCATION:DDTC Court 11N
CATEGORIES:QuickScores; Pickleball Game
TRANSP:0
DALARM:20250414T182000;PT10M;2;Harman/Fisher vs. Harper/Harper
END:VEVENT
BEGIN:VEVENT
DTSTART:20250414T210000
DTEND:20250414T214000
SUMMARY:Harman/Fisher vs. Constance/Juras
DESCRIPTION:DDTC Monday Low Intermediate Lg. - Spring 25 - Paddle Up Pickleball Club
LOCATION:DDTC Court 13N
CATEGORIES:QuickScores; Pickleball Game
TRANSP:0
DALARM:20250414T190000;PT10M;2;Harman/Fisher vs. Constance/Juras
END:VEVENT
BEGIN:VEVENT
DTSTART:20250421T200000
DTEND:20250421T204000
SUMMARY:Rule/Rule vs. Harman/Fisher
DESCRIPTION:DDTC Monday Low Intermediate Lg. - Spring 25 - Paddle Up Pickleball Club
LOCATION:DDTC Court 13S
CATEGORIES:QuickScores; Pickleball Game
TRANSP:0
DALARM:20250421T180000;PT10M;2;Rule/Rule vs. Harman/Fisher
END:VEVENT
BEGIN:VEVENT
DTSTART:20250421T204000
DTEND:20250421T212000
SUMMARY:Krekovich/Gorman vs. Harman/Fisher
DESCRIPTION:DDTC Monday Low Intermediate Lg. - Spring 25 - Paddle Up Pickleball Club
LOCATION:DDTC Court 14S
CATEGORIES:QuickScores; Pickleball Game
TRANSP:0
DALARM:20250421T184000;PT10M;2;Krekovich/Gorman vs. Harman/Fisher
END:VEVENT
BEGIN:VEVENT
DTSTART:20250428T184000
DTEND:20250428T192000
SUMMARY:Schilly/Boschert vs. Harman/Fisher
DESCRIPTION:DDTC Monday Low Intermediate Lg. - Spring 25 - Paddle Up Pickleball Club
LOCATION:DDTC Court 14N
CATEGORIES:QuickScores; Pickleball Game
TRANSP:0
DALARM:20250428T164000;PT10M;2;Schilly/Boschert vs. Harman/Fisher
END:VEVENT
BEGIN:VEVENT
DTSTART:20250428T200000
DTEND:20250428T204000
SUMMARY:Harper/Harper vs. Harman/Fisher
DESCRIPTION:DDTC Monday Low Intermediate Lg. - Spring 25 - Paddle Up Pickleball Club
LOCATION:DDTC Court 13N
CATEGORIES:QuickScores; Pickleball Game
TRANSP:0
DALARM:20250428T180000;PT10M;2;Harper/Harper vs. Harman/Fisher
END:VEVENT
BEGIN:VEVENT
DTSTART:20250505T184000
DTEND:20250505T192000
SUMMARY:Harman/Fisher vs. Aldrich/Rasche
DESCRIPTION:DDTC Monday Low Intermediate Lg. - Spring 25 - Paddle Up Pickleball Club
LOCATION:DDTC Court 14N
CATEGORIES:QuickScores; Pickleball Game
TRANSP:0
DALARM:20250505T164000;PT10M;2;Harman/Fisher vs. Aldrich/Rasche
END:VEVENT
BEGIN:VEVENT
DTSTART:20250505T192000
DTEND:20250505T200000
SUMMARY:Harman/Fisher vs. Kaiser/Kaiser
DESCRIPTION:DDTC Monday Low Intermediate Lg. - Spring 25 - Paddle Up Pickleball Club
LOCATION:DDTC Court 14N
CATEGORIES:QuickScores; Pickleball Game
TRANSP:0
DALARM:20250505T172000;PT10M;2;Harman/Fisher vs. Kaiser/Kaiser
END:VEVENT
BEGIN:VEVENT
DTSTART:20250602T183000
DTEND:20250602T190000
SUMMARY:Harman/Fisher vs. Thuet/Wientge
DESCRIPTION:DDTC Monday Low Intermediate Lg. - Spring 25 - Paddle Up Pickleball Club
LOCATION:DDTC Court 22
CATEGORIES:QuickScores; Pickleball Game
TRANSP:0
DALARM:20250602T163000;PT10M;2;Harman/Fisher vs. Thuet/Wientge
END:VEVENT
END:VCALENDAR
