BEGIN:VCALENDAR
VERSION:1.0
BEGIN:VEVENT
DTSTART:20250414T202000
DTEND:20250414T210000
SUMMARY:Thuet/Wientge vs. Sutter/Schlosser
DESCRIPTION:DDTC Monday Low Intermediate Lg. - Spring 25 - Paddle Up Pickleball Club
LOCATION:DDTC Court 14N
CATEGORIES:QuickScores; Pickleball Game
TRANSP:0
DALARM:20250414T182000;PT10M;2;Thuet/Wientge vs. Sutter/Schlosser
END:VEVENT
BEGIN:VEVENT
DTSTART:20250414T210000
DTEND:20250414T214000
SUMMARY:Kaiser/Kaiser vs. Thuet/Wientge
DESCRIPTION:DDTC Monday Low Intermediate Lg. - Spring 25 - Paddle Up Pickleball Club
LOCATION:DDTC Court 14N
CATEGORIES:QuickScores; Pickleball Game
TRANSP:0
DALARM:20250414T190000;PT10M;2;Kaiser/Kaiser vs. Thuet/Wientge
END:VEVENT
BEGIN:VEVENT
DTSTART:20250421T180000
DTEND:20250421T184000
SUMMARY:Thuet/Wientge vs. Williams/Minch
DESCRIPTION:DDTC Monday Low Intermediate Lg. - Spring 25 - Paddle Up Pickleball Club
LOCATION:DDTC Court 14N
CATEGORIES:QuickScores; Pickleball Game
TRANSP:0
DALARM:20250421T160000;PT10M;2;Thuet/Wientge vs. Williams/Minch
END:VEVENT
BEGIN:VEVENT
DTSTART:20250421T184000
DTEND:20250421T192000
SUMMARY:Thuet/Wientge vs. Harper/Harper
DESCRIPTION:DDTC Monday Low Intermediate Lg. - Spring 25 - Paddle Up Pickleball Club
LOCATION:DDTC Court 14N
CATEGORIES:QuickScores; Pickleball Game
TRANSP:0
DALARM:20250421T164000;PT10M;2;Thuet/Wientge vs. Harper/Harper
END:VEVENT
BEGIN:VEVENT
DTSTART:20250428T180000
DTEND:20250428T184000
SUMMARY:Karstens/Moody vs. Thuet/Wientge
DESCRIPTION:DDTC Monday Low Intermediate Lg. - Spring 25 - Paddle Up Pickleball Club
LOCATION:DDTC Court 13S
CATEGORIES:QuickScores; Pickleball Game
TRANSP:0
DALARM:20250428T160000;PT10M;2;Karstens/Moody vs. Thuet/Wientge
END:VEVENT
BEGIN:VEVENT
DTSTART:20250428T184000
DTEND:20250428T192000
SUMMARY:Thuet/Wientge vs. Daigh/Andereck
DESCRIPTION:DDTC Monday Low Intermediate Lg. - Spring 25 - Paddle Up Pickleball Club
LOCATION:DDTC Court 13S
CATEGORIES:QuickScores; Pickleball Game
TRANSP:0
DALARM:20250428T164000;PT10M;2;Thuet/Wientge vs. Daigh/Andereck
END:VEVENT
BEGIN:VEVENT
DTSTART:20250505T200000
DTEND:20250505T204000
SUMMARY:Thuet/Wientge vs. Cook/Schulte
DESCRIPTION:DDTC Monday Low Intermediate Lg. - Spring 25 - Paddle Up Pickleball Club
LOCATION:DDTC Court 11N
CATEGORIES:QuickScores; Pickleball Game
TRANSP:0
DALARM:20250505T180000;PT10M;2;Thuet/Wientge vs. Cook/Schulte
END:VEVENT
BEGIN:VEVENT
DTSTART:20250505T204000
DTEND:20250505T212000
SUMMARY:Hutchens/Rainford vs. Thuet/Wientge
DESCRIPTION:DDTC Monday Low Intermediate Lg. - Spring 25 - Paddle Up Pickleball Club
LOCATION:DDTC Court 13N
CATEGORIES:QuickScores; Pickleball Game
TRANSP:0
DALARM:20250505T184000;PT10M;2;Hutchens/Rainford vs. Thuet/Wientge
END:VEVENT
BEGIN:VEVENT
DTSTART:20250602T183000
DTEND:20250602T190000
SUMMARY:Harman/Fisher vs. Thuet/Wientge
DESCRIPTION:DDTC Monday Low Intermediate Lg. - Spring 25 - Paddle Up Pickleball Club
LOCATION:DDTC Court 22
CATEGORIES:QuickScores; Pickleball Game
TRANSP:0
DALARM:20250602T163000;PT10M;2;Harman/Fisher vs. Thuet/Wientge
END:VEVENT
END:VCALENDAR
