BEGIN:VCALENDAR
VERSION:1.0
BEGIN:VEVENT
DTSTART:20250421T180000
DTEND:20250421T184000
SUMMARY:Lanter/Lanter vs. Daigh/Andereck
DESCRIPTION:DDTC Monday Low Intermediate Lg. - Spring 25 - Paddle Up Pickleball Club
LOCATION:DDTC Court 13N
CATEGORIES:QuickScores; Pickleball Game
TRANSP:0
DALARM:20250421T160000;PT10M;2;Lanter/Lanter vs. Daigh/Andereck
END:VEVENT
BEGIN:VEVENT
DTSTART:20250421T184000
DTEND:20250421T192000
SUMMARY:Lanter/Lanter vs. Murphy/Lampe
DESCRIPTION:DDTC Monday Low Intermediate Lg. - Spring 25 - Paddle Up Pickleball Club
LOCATION:DDTC Court 13N
CATEGORIES:QuickScores; Pickleball Game
TRANSP:0
DALARM:20250421T164000;PT10M;2;Lanter/Lanter vs. Murphy/Lampe
END:VEVENT
BEGIN:VEVENT
DTSTART:20250428T180000
DTEND:20250428T184000
SUMMARY:Caldwell/Wientge2 vs. Lanter/Lanter
DESCRIPTION:DDTC Monday Low Intermediate Lg. - Spring 25 - Paddle Up Pickleball Club
LOCATION:DDTC Court 11S
CATEGORIES:QuickScores; Pickleball Game
TRANSP:0
DALARM:20250428T160000;PT10M;2;Caldwell/Wientge2 vs. Lanter/Lanter
END:VEVENT
BEGIN:VEVENT
DTSTART:20250428T184000
DTEND:20250428T192000
SUMMARY:Kellerman/Dilger vs. Lanter/Lanter
DESCRIPTION:DDTC Monday Low Intermediate Lg. - Spring 25 - Paddle Up Pickleball Club
LOCATION:DDTC Court 13N
CATEGORIES:QuickScores; Pickleball Game
TRANSP:0
DALARM:20250428T164000;PT10M;2;Kellerman/Dilger vs. Lanter/Lanter
END:VEVENT
BEGIN:VEVENT
DTSTART:20250505T180000
DTEND:20250505T184000
SUMMARY:Aldrich/Rasche vs. Lanter/Lanter
DESCRIPTION:DDTC Monday Low Intermediate Lg. - Spring 25 - Paddle Up Pickleball Club
LOCATION:DDTC Court 13S
CATEGORIES:QuickScores; Pickleball Game
TRANSP:0
DALARM:20250505T160000;PT10M;2;Aldrich/Rasche vs. Lanter/Lanter
END:VEVENT
BEGIN:VEVENT
DTSTART:20250505T184000
DTEND:20250505T192000
SUMMARY:Lanter/Lanter vs. Schilly/Boschert
DESCRIPTION:DDTC Monday Low Intermediate Lg. - Spring 25 - Paddle Up Pickleball Club
LOCATION:DDTC Court 13N
CATEGORIES:QuickScores; Pickleball Game
TRANSP:0
DALARM:20250505T164000;PT10M;2;Lanter/Lanter vs. Schilly/Boschert
END:VEVENT
BEGIN:VEVENT
DTSTART:20250602T193000
DTEND:20250602T200000
SUMMARY:Lanter/Lanter vs. Kaiser/Kaiser
DESCRIPTION:DDTC Monday Low Intermediate Lg. - Spring 25 - Paddle Up Pickleball Club
LOCATION:DDTC Court 13S
CATEGORIES:QuickScores; Pickleball Game
TRANSP:0
DALARM:20250602T173000;PT10M;2;Lanter/Lanter vs. Kaiser/Kaiser
END:VEVENT
END:VCALENDAR
