BEGIN:VCALENDAR
VERSION:1.0
BEGIN:VEVENT
DTSTART:20250329T134000
DTEND:20250329T140000
SUMMARY:MattFleming/PrestonBehlmann vs. MattLandolt/PatAlexander
DESCRIPTION:Pickle Madness All Gender U9.0 and U8.0 - 3/29 1:30pm - Paddle Up Pickleball Club
LOCATION:Court 2
CATEGORIES:QuickScores; Pickleball Game
TRANSP:0
DALARM:20250329T114000;PT10M;2;MattFleming/PrestonBehlmann vs. MattLandolt/PatAlexander
END:VEVENT
BEGIN:VEVENT
DTSTART:20250329T140000
DTEND:20250329T142000
SUMMARY:MattLandolt/PatAlexander vs. MatSevilla/JonHarris
DESCRIPTION:Pickle Madness All Gender U9.0 and U8.0 - 3/29 1:30pm - Paddle Up Pickleball Club
LOCATION:Court 8
CATEGORIES:QuickScores; Pickleball Game
TRANSP:0
DALARM:20250329T120000;PT10M;2;MattLandolt/PatAlexander vs. MatSevilla/JonHarris
END:VEVENT
BEGIN:VEVENT
DTSTART:20250329T142000
DTEND:20250329T144000
SUMMARY:ChaseBlickhan/JohnPaden vs. MattLandolt/PatAlexander
DESCRIPTION:Pickle Madness All Gender U9.0 and U8.0 - 3/29 1:30pm - Paddle Up Pickleball Club
LOCATION:Court 9
CATEGORIES:QuickScores; Pickleball Game
TRANSP:0
DALARM:20250329T122000;PT10M;2;ChaseBlickhan/JohnPaden vs. MattLandolt/PatAlexander
END:VEVENT
BEGIN:VEVENT
DTSTART:20250329T150000
DTEND:20250329T152000
SUMMARY:MattLandolt/PatAlexander vs. NickBorger/MattStoddard
DESCRIPTION:Pickle Madness All Gender U9.0 and U8.0 - 3/29 1:30pm - Paddle Up Pickleball Club
LOCATION:Court 9
CATEGORIES:QuickScores; Pickleball Game
TRANSP:0
DALARM:20250329T130000;PT10M;2;MattLandolt/PatAlexander vs. NickBorger/MattStoddard
END:VEVENT
END:VCALENDAR
