BEGIN:VCALENDAR
VERSION:1.0
BEGIN:VEVENT
DTSTART:20250329T134000
DTEND:20250329T140000
SUMMARY:MattFleming/PrestonBehlmann vs. MattLandolt/PatAlexander
DESCRIPTION:Pickle Madness All Gender U9.0 and U8.0 - 3/29 1:30pm - Paddle Up Pickleball Club
LOCATION:Court 2
CATEGORIES:QuickScores; Pickleball Game
TRANSP:0
DALARM:20250329T114000;PT10M;2;MattFleming/PrestonBehlmann vs. MattLandolt/PatAlexander
END:VEVENT
BEGIN:VEVENT
DTSTART:20250329T142000
DTEND:20250329T144000
SUMMARY:MattFleming/PrestonBehlmann vs. KevinReque/PaigeReque
DESCRIPTION:Pickle Madness All Gender U9.0 and U8.0 - 3/29 1:30pm - Paddle Up Pickleball Club
LOCATION:Court 5
CATEGORIES:QuickScores; Pickleball Game
TRANSP:0
DALARM:20250329T122000;PT10M;2;MattFleming/PrestonBehlmann vs. KevinReque/PaigeReque
END:VEVENT
BEGIN:VEVENT
DTSTART:20250329T144000
DTEND:20250329T150000
SUMMARY:NickBorger/MattStoddard vs. MattFleming/PrestonBehlmann
DESCRIPTION:Pickle Madness All Gender U9.0 and U8.0 - 3/29 1:30pm - Paddle Up Pickleball Club
LOCATION:Court 2
CATEGORIES:QuickScores; Pickleball Game
TRANSP:0
DALARM:20250329T124000;PT10M;2;NickBorger/MattStoddard vs. MattFleming/PrestonBehlmann
END:VEVENT
BEGIN:VEVENT
DTSTART:20250329T152000
DTEND:20250329T154000
SUMMARY:AndrewShapiro/ZacharyCorson vs. MattFleming/PrestonBehlmann
DESCRIPTION:Pickle Madness All Gender U9.0 and U8.0 - 3/29 1:30pm - Paddle Up Pickleball Club
LOCATION:Court 5
CATEGORIES:QuickScores; Pickleball Game
TRANSP:0
DALARM:20250329T132000;PT10M;2;AndrewShapiro/ZacharyCorson vs. MattFleming/PrestonBehlmann
END:VEVENT
END:VCALENDAR
