BEGIN:VCALENDAR
VERSION:1.0
BEGIN:VEVENT
DTSTART:20250329T134000
DTEND:20250329T140000
SUMMARY:HarryWallace/LouisWallace vs. TerryAllan/EvanPrice
DESCRIPTION:Pickle Madness All Gender U9.0 and U8.0 - 3/29 1:30pm - Paddle Up Pickleball Club
LOCATION:Court 5
CATEGORIES:QuickScores; Pickleball Game
TRANSP:0
DALARM:20250329T114000;PT10M;2;HarryWallace/LouisWallace vs. TerryAllan/EvanPrice
END:VEVENT
BEGIN:VEVENT
DTSTART:20250329T140000
DTEND:20250329T142000
SUMMARY:TerryAllan/EvanPrice vs. NoahOrr/GregChappel
DESCRIPTION:Pickle Madness All Gender U9.0 and U8.0 - 3/29 1:30pm - Paddle Up Pickleball Club
LOCATION:Court 7
CATEGORIES:QuickScores; Pickleball Game
TRANSP:0
DALARM:20250329T120000;PT10M;2;TerryAllan/EvanPrice vs. NoahOrr/GregChappel
END:VEVENT
BEGIN:VEVENT
DTSTART:20250329T144000
DTEND:20250329T150000
SUMMARY:TerryAllan/EvanPrice vs. JasonColeman/BrandonColeman
DESCRIPTION:Pickle Madness All Gender U9.0 and U8.0 - 3/29 1:30pm - Paddle Up Pickleball Club
LOCATION:Court 5
CATEGORIES:QuickScores; Pickleball Game
TRANSP:0
DALARM:20250329T124000;PT10M;2;TerryAllan/EvanPrice vs. JasonColeman/BrandonColeman
END:VEVENT
BEGIN:VEVENT
DTSTART:20250329T152000
DTEND:20250329T154000
SUMMARY:PrestonLanglois/BradDonley vs. TerryAllan/EvanPrice
DESCRIPTION:Pickle Madness All Gender U9.0 and U8.0 - 3/29 1:30pm - Paddle Up Pickleball Club
LOCATION:Court 3
CATEGORIES:QuickScores; Pickleball Game
TRANSP:0
DALARM:20250329T132000;PT10M;2;PrestonLanglois/BradDonley vs. TerryAllan/EvanPrice
END:VEVENT
END:VCALENDAR
