BEGIN:VCALENDAR
VERSION:1.0
BEGIN:VEVENT
DTSTART:20250329T134000
DTEND:20250329T140000
SUMMARY:MaryKruse/KayleighTrokey vs. SamanthaRay/KordellStillmunkes
DESCRIPTION:Pickle Madness All Gender U9.0 and U8.0 - 3/29 1:30pm - Paddle Up Pickleball Club
LOCATION:Court 6
CATEGORIES:QuickScores; Pickleball Game
TRANSP:0
DALARM:20250329T114000;PT10M;2;MaryKruse/KayleighTrokey vs. SamanthaRay/KordellStillmunkes
END:VEVENT
BEGIN:VEVENT
DTSTART:20250329T142000
DTEND:20250329T144000
SUMMARY:KrisMcCann/DylanDang vs. MaryKruse/KayleighTrokey
DESCRIPTION:Pickle Madness All Gender U9.0 and U8.0 - 3/29 1:30pm - Paddle Up Pickleball Club
LOCATION:Court 7
CATEGORIES:QuickScores; Pickleball Game
TRANSP:0
DALARM:20250329T122000;PT10M;2;KrisMcCann/DylanDang vs. MaryKruse/KayleighTrokey
END:VEVENT
BEGIN:VEVENT
DTSTART:20250329T144000
DTEND:20250329T150000
SUMMARY:MichelleSwitzer/KevinBlase vs. MaryKruse/KayleighTrokey
DESCRIPTION:Pickle Madness All Gender U9.0 and U8.0 - 3/29 1:30pm - Paddle Up Pickleball Club
LOCATION:Court 7
CATEGORIES:QuickScores; Pickleball Game
TRANSP:0
DALARM:20250329T124000;PT10M;2;MichelleSwitzer/KevinBlase vs. MaryKruse/KayleighTrokey
END:VEVENT
BEGIN:VEVENT
DTSTART:20250329T150000
DTEND:20250329T152000
SUMMARY:MaryKruse/KayleighTrokey vs. DanSerbin/JohnPisoni
DESCRIPTION:Pickle Madness All Gender U9.0 and U8.0 - 3/29 1:30pm - Paddle Up Pickleball Club
LOCATION:Court 3
CATEGORIES:QuickScores; Pickleball Game
TRANSP:0
DALARM:20250329T130000;PT10M;2;MaryKruse/KayleighTrokey vs. DanSerbin/JohnPisoni
END:VEVENT
END:VCALENDAR
