BEGIN:VCALENDAR
VERSION:1.0
BEGIN:VEVENT
DTSTART:20250226T180000
DTEND:20250226T184000
SUMMARY:Heinrich/Reidelberger vs. Langston/Luber
DESCRIPTION:PUPC Wednesday Intermediate Lg. - LateWinter2025 - Paddle Up Pickleball Club
LOCATION:Court 7
CATEGORIES:QuickScores; Pickleball Game
TRANSP:0
DALARM:20250226T160000;PT10M;2;Heinrich/Reidelberger vs. Langston/Luber
END:VEVENT
BEGIN:VEVENT
DTSTART:20250226T192000
DTEND:20250226T200000
SUMMARY:Langston/Luber vs. Hoffman/Boyce
DESCRIPTION:PUPC Wednesday Intermediate Lg. - LateWinter2025 - Paddle Up Pickleball Club
LOCATION:Court 7
CATEGORIES:QuickScores; Pickleball Game
TRANSP:0
DALARM:20250226T172000;PT10M;2;Langston/Luber vs. Hoffman/Boyce
END:VEVENT
BEGIN:VEVENT
DTSTART:20250305T184000
DTEND:20250305T192000
SUMMARY:Langston/Luber vs. Scism/Lawson
DESCRIPTION:PUPC Wednesday Intermediate Lg. - LateWinter2025 - Paddle Up Pickleball Club
LOCATION:Court 6
CATEGORIES:QuickScores; Pickleball Game
TRANSP:0
DALARM:20250305T164000;PT10M;2;Langston/Luber vs. Scism/Lawson
END:VEVENT
BEGIN:VEVENT
DTSTART:20250305T192000
DTEND:20250305T200000
SUMMARY:Kelley/Kelley vs. Langston/Luber
DESCRIPTION:PUPC Wednesday Intermediate Lg. - LateWinter2025 - Paddle Up Pickleball Club
LOCATION:Court 6
CATEGORIES:QuickScores; Pickleball Game
TRANSP:0
DALARM:20250305T172000;PT10M;2;Kelley/Kelley vs. Langston/Luber
END:VEVENT
BEGIN:VEVENT
DTSTART:20250312T172000
DTEND:20250312T180000
SUMMARY:Hoffman/Boyce vs. Langston/Luber
DESCRIPTION:PUPC Wednesday Intermediate Lg. - LateWinter2025 - Paddle Up Pickleball Club
LOCATION:Court 6
CATEGORIES:QuickScores; Pickleball Game
TRANSP:0
DALARM:20250312T152000;PT10M;2;Hoffman/Boyce vs. Langston/Luber
END:VEVENT
BEGIN:VEVENT
DTSTART:20250312T180000
DTEND:20250312T184000
SUMMARY:Mayhall/Bye vs. Langston/Luber
DESCRIPTION:PUPC Wednesday Intermediate Lg. - LateWinter2025 - Paddle Up Pickleball Club
LOCATION:Court 6
CATEGORIES:QuickScores; Pickleball Game
TRANSP:0
DALARM:20250312T160000;PT10M;2;Mayhall/Bye vs. Langston/Luber
END:VEVENT
BEGIN:VEVENT
DTSTART:20250319T172000
DTEND:20250319T180000
SUMMARY:Scism/Lawson vs. Langston/Luber
DESCRIPTION:PUPC Wednesday Intermediate Lg. - LateWinter2025 - Paddle Up Pickleball Club
LOCATION:Court 6
CATEGORIES:QuickScores; Pickleball Game
TRANSP:0
DALARM:20250319T152000;PT10M;2;Scism/Lawson vs. Langston/Luber
END:VEVENT
BEGIN:VEVENT
DTSTART:20250319T180000
DTEND:20250319T184000
SUMMARY:Langston/Luber vs. Heinrich/Reidelberger
DESCRIPTION:PUPC Wednesday Intermediate Lg. - LateWinter2025 - Paddle Up Pickleball Club
LOCATION:Court 7
CATEGORIES:QuickScores; Pickleball Game
TRANSP:0
DALARM:20250319T160000;PT10M;2;Langston/Luber vs. Heinrich/Reidelberger
END:VEVENT
BEGIN:VEVENT
DTSTART:20250326T184000
DTEND:20250326T192000
SUMMARY:Langston/Luber vs. Mayhall/Bye
DESCRIPTION:PUPC Wednesday Intermediate Lg. - LateWinter2025 - Paddle Up Pickleball Club
LOCATION:Court 6
CATEGORIES:QuickScores; Pickleball Game
TRANSP:0
DALARM:20250326T164000;PT10M;2;Langston/Luber vs. Mayhall/Bye
END:VEVENT
BEGIN:VEVENT
DTSTART:20250326T192000
DTEND:20250326T200000
SUMMARY:Langston/Luber vs. Kelley/Kelley
DESCRIPTION:PUPC Wednesday Intermediate Lg. - LateWinter2025 - Paddle Up Pickleball Club
LOCATION:Court 7
CATEGORIES:QuickScores; Pickleball Game
TRANSP:0
DALARM:20250326T172000;PT10M;2;Langston/Luber vs. Kelley/Kelley
END:VEVENT
BEGIN:VEVENT
DTSTART:20250402T173000
DTEND:20250402T180000
SUMMARY:[4] Scism/Lawson vs. [5] Langston/Luber
DESCRIPTION:PUPC Wednesday Intermediate Lg. - LateWinter2025 - Paddle Up Pickleball Club
LOCATION:Court 8
CATEGORIES:QuickScores; Pickleball Game
TRANSP:0
DALARM:20250402T153000;PT10M;2;[4] Scism/Lawson vs. [5] Langston/Luber
END:VEVENT
END:VCALENDAR
