BEGIN:VCALENDAR
VERSION:1.0
BEGIN:VEVENT
DTSTART:20250201T090000
DTEND:20250201T092000
SUMMARY:JulieHarrison/ToniKalish vs. LauraSwindler/ColleenSiebeneck
DESCRIPTION:Lou Fusz Winter Classic Womens Dbls 9am  2/1 - Paddle Up Pickleball Club
LOCATION:Court 1
CATEGORIES:QuickScores; Pickleball Game
TRANSP:0
DALARM:20250201T070000;PT10M;2;JulieHarrison/ToniKalish vs. LauraSwindler/ColleenSiebeneck
END:VEVENT
BEGIN:VEVENT
DTSTART:20250201T092000
DTEND:20250201T094000
SUMMARY:LauraSwindler/ColleenSiebeneck vs. WhitneyDurham/KristieRosenberger
DESCRIPTION:Lou Fusz Winter Classic Womens Dbls 9am  2/1 - Paddle Up Pickleball Club
LOCATION:Court 9
CATEGORIES:QuickScores; Pickleball Game
TRANSP:0
DALARM:20250201T072000;PT10M;2;LauraSwindler/ColleenSiebeneck vs. WhitneyDurham/KristieRosenberger
END:VEVENT
BEGIN:VEVENT
DTSTART:20250201T094000
DTEND:20250201T100000
SUMMARY:CherylDuBois/GwenBrooks vs. LauraSwindler/ColleenSiebeneck
DESCRIPTION:Lou Fusz Winter Classic Womens Dbls 9am  2/1 - Paddle Up Pickleball Club
LOCATION:Court 6
CATEGORIES:QuickScores; Pickleball Game
TRANSP:0
DALARM:20250201T074000;PT10M;2;CherylDuBois/GwenBrooks vs. LauraSwindler/ColleenSiebeneck
END:VEVENT
BEGIN:VEVENT
DTSTART:20250201T100000
DTEND:20250201T102000
SUMMARY:LauraSwindler/ColleenSiebeneck vs. MarieJenkins/CarrieLitzelfelner
DESCRIPTION:Lou Fusz Winter Classic Womens Dbls 9am  2/1 - Paddle Up Pickleball Club
LOCATION:Court 6
CATEGORIES:QuickScores; Pickleball Game
TRANSP:0
DALARM:20250201T080000;PT10M;2;LauraSwindler/ColleenSiebeneck vs. MarieJenkins/CarrieLitzelfelner
END:VEVENT
BEGIN:VEVENT
DTSTART:20250201T102000
DTEND:20250201T104000
SUMMARY:ElizabethLansing/DiannCage vs. LauraSwindler/ColleenSiebeneck
DESCRIPTION:Lou Fusz Winter Classic Womens Dbls 9am  2/1 - Paddle Up Pickleball Club
LOCATION:Court 9
CATEGORIES:QuickScores; Pickleball Game
TRANSP:0
DALARM:20250201T082000;PT10M;2;ElizabethLansing/DiannCage vs. LauraSwindler/ColleenSiebeneck
END:VEVENT
BEGIN:VEVENT
DTSTART:20250201T104000
DTEND:20250201T110000
SUMMARY:LauraSwindler/ColleenSiebeneck vs. LoriGibson/JodiKruse
DESCRIPTION:Lou Fusz Winter Classic Womens Dbls 9am  2/1 - Paddle Up Pickleball Club
LOCATION:Court 8
CATEGORIES:QuickScores; Pickleball Game
TRANSP:0
DALARM:20250201T084000;PT10M;2;LauraSwindler/ColleenSiebeneck vs. LoriGibson/JodiKruse
END:VEVENT
END:VCALENDAR
