BEGIN:VCALENDAR
VERSION:1.0
BEGIN:VEVENT
DTSTART:20250131T141000
DTEND:20250131T143000
SUMMARY:JosephValenti/JeffSchmidt vs. AndyBlickhan/KeithFletcher
DESCRIPTION:Lou Fusz Winter Classic Age 55+ 2pm 1/31 - Paddle Up Pickleball Club
LOCATION:Court 4
CATEGORIES:QuickScores; Pickleball Game
TRANSP:0
DALARM:20250131T121000;PT10M;2;JosephValenti/JeffSchmidt vs. AndyBlickhan/KeithFletcher
END:VEVENT
BEGIN:VEVENT
DTSTART:20250131T143000
DTEND:20250131T145000
SUMMARY:DavidBrodsky/ToddWahl vs. AndyBlickhan/KeithFletcher
DESCRIPTION:Lou Fusz Winter Classic Age 55+ 2pm 1/31 - Paddle Up Pickleball Club
LOCATION:Court 9
CATEGORIES:QuickScores; Pickleball Game
TRANSP:0
DALARM:20250131T123000;PT10M;2;DavidBrodsky/ToddWahl vs. AndyBlickhan/KeithFletcher
END:VEVENT
BEGIN:VEVENT
DTSTART:20250131T151000
DTEND:20250131T153000
SUMMARY:AndyBlickhan/KeithFletcher vs. OwenMiller/TomObremski
DESCRIPTION:Lou Fusz Winter Classic Age 55+ 2pm 1/31 - Paddle Up Pickleball Club
LOCATION:Court 9
CATEGORIES:QuickScores; Pickleball Game
TRANSP:0
DALARM:20250131T131000;PT10M;2;AndyBlickhan/KeithFletcher vs. OwenMiller/TomObremski
END:VEVENT
BEGIN:VEVENT
DTSTART:20250131T153000
DTEND:20250131T155000
SUMMARY:AndyBlickhan/KeithFletcher vs. AllenBradley/AndrewUrshan
DESCRIPTION:Lou Fusz Winter Classic Age 55+ 2pm 1/31 - Paddle Up Pickleball Club
LOCATION:Court 2
CATEGORIES:QuickScores; Pickleball Game
TRANSP:0
DALARM:20250131T133000;PT10M;2;AndyBlickhan/KeithFletcher vs. AllenBradley/AndrewUrshan
END:VEVENT
END:VCALENDAR
