BEGIN:VCALENDAR
VERSION:1.0
BEGIN:VEVENT
DTSTART:20250131T141000
DTEND:20250131T143000
SUMMARY:WayneBrinker/BrendaAlexander vs. ChristineTessereau/MattSimon
DESCRIPTION:Lou Fusz Winter Classic Age 55+ 2pm 1/31 - Paddle Up Pickleball Club
LOCATION:Court 2
CATEGORIES:QuickScores; Pickleball Game
TRANSP:0
DALARM:20250131T121000;PT10M;2;WayneBrinker/BrendaAlexander vs. ChristineTessereau/MattSimon
END:VEVENT
BEGIN:VEVENT
DTSTART:20250131T143000
DTEND:20250131T145000
SUMMARY:SteveTeson/DennisMuessig vs. ChristineTessereau/MattSimon
DESCRIPTION:Lou Fusz Winter Classic Age 55+ 2pm 1/31 - Paddle Up Pickleball Club
LOCATION:Court 5
CATEGORIES:QuickScores; Pickleball Game
TRANSP:0
DALARM:20250131T123000;PT10M;2;SteveTeson/DennisMuessig vs. ChristineTessereau/MattSimon
END:VEVENT
BEGIN:VEVENT
DTSTART:20250131T151000
DTEND:20250131T153000
SUMMARY:ChristineTessereau/MattSimon vs. RusselWeston/MissyWeston
DESCRIPTION:Lou Fusz Winter Classic Age 55+ 2pm 1/31 - Paddle Up Pickleball Club
LOCATION:Court 1
CATEGORIES:QuickScores; Pickleball Game
TRANSP:0
DALARM:20250131T131000;PT10M;2;ChristineTessereau/MattSimon vs. RusselWeston/MissyWeston
END:VEVENT
BEGIN:VEVENT
DTSTART:20250131T153000
DTEND:20250131T155000
SUMMARY:ChristineTessereau/MattSimon vs. NoalPresley/RandyPenberthy
DESCRIPTION:Lou Fusz Winter Classic Age 55+ 2pm 1/31 - Paddle Up Pickleball Club
LOCATION:Court 5
CATEGORIES:QuickScores; Pickleball Game
TRANSP:0
DALARM:20250131T133000;PT10M;2;ChristineTessereau/MattSimon vs. NoalPresley/RandyPenberthy
END:VEVENT
END:VCALENDAR
