BEGIN:VCALENDAR
VERSION:1.0
BEGIN:VEVENT
DTSTART:20250201T090000
DTEND:20250201T092000
SUMMARY:EmilyKosztowny/LisaObando vs. DebbieTeson/LisaLucido
DESCRIPTION:Lou Fusz Winter Classic Womens Dbls 9am  2/1 - Paddle Up Pickleball Club
LOCATION:Court 5
CATEGORIES:QuickScores; Pickleball Game
TRANSP:0
DALARM:20250201T070000;PT10M;2;EmilyKosztowny/LisaObando vs. DebbieTeson/LisaLucido
END:VEVENT
BEGIN:VEVENT
DTSTART:20250201T092000
DTEND:20250201T094000
SUMMARY:EmilyKosztowny/LisaObando vs. AmySmith/LibbyListon
DESCRIPTION:Lou Fusz Winter Classic Womens Dbls 9am  2/1 - Paddle Up Pickleball Club
LOCATION:Court 1
CATEGORIES:QuickScores; Pickleball Game
TRANSP:0
DALARM:20250201T072000;PT10M;2;EmilyKosztowny/LisaObando vs. AmySmith/LibbyListon
END:VEVENT
BEGIN:VEVENT
DTSTART:20250201T094000
DTEND:20250201T100000
SUMMARY:RachelLaramie/RenessaDrainer vs. EmilyKosztowny/LisaObando
DESCRIPTION:Lou Fusz Winter Classic Womens Dbls 9am  2/1 - Paddle Up Pickleball Club
LOCATION:Court 9
CATEGORIES:QuickScores; Pickleball Game
TRANSP:0
DALARM:20250201T074000;PT10M;2;RachelLaramie/RenessaDrainer vs. EmilyKosztowny/LisaObando
END:VEVENT
BEGIN:VEVENT
DTSTART:20250201T100000
DTEND:20250201T102000
SUMMARY:EmilyKosztowny/LisaObando vs. SohiniSengupta/RachelMartin
DESCRIPTION:Lou Fusz Winter Classic Womens Dbls 9am  2/1 - Paddle Up Pickleball Club
LOCATION:Court 8
CATEGORIES:QuickScores; Pickleball Game
TRANSP:0
DALARM:20250201T080000;PT10M;2;EmilyKosztowny/LisaObando vs. SohiniSengupta/RachelMartin
END:VEVENT
BEGIN:VEVENT
DTSTART:20250201T102000
DTEND:20250201T104000
SUMMARY:MichelleSwitzer/JennyLanteigne vs. EmilyKosztowny/LisaObando
DESCRIPTION:Lou Fusz Winter Classic Womens Dbls 9am  2/1 - Paddle Up Pickleball Club
LOCATION:Court 4
CATEGORIES:QuickScores; Pickleball Game
TRANSP:0
DALARM:20250201T082000;PT10M;2;MichelleSwitzer/JennyLanteigne vs. EmilyKosztowny/LisaObando
END:VEVENT
BEGIN:VEVENT
DTSTART:20250201T104000
DTEND:20250201T110000
SUMMARY:DebbieTeson/LisaLucido vs. EmilyKosztowny/LisaObando
DESCRIPTION:Lou Fusz Winter Classic Womens Dbls 9am  2/1 - Paddle Up Pickleball Club
LOCATION:Court 7
CATEGORIES:QuickScores; Pickleball Game
TRANSP:0
DALARM:20250201T084000;PT10M;2;DebbieTeson/LisaLucido vs. EmilyKosztowny/LisaObando
END:VEVENT
END:VCALENDAR
