BEGIN:VCALENDAR
VERSION:1.0
BEGIN:VEVENT
DTSTART:20250202T133000
DTEND:20250202T141000
SUMMARY:RachelLoeb/JohnO'Keefe/AbbyGiles/MatthewHultm vs. SeanListon/MattFleming/LibbyListon/AmySmith
DESCRIPTION:DUPR 15 SQUADS Lou Fusz Winter Classic  - 1:30pm 2/2 - Paddle Up Pickleball Club
LOCATION:Court 1
CATEGORIES:QuickScores; Pickleball Game
TRANSP:0
DALARM:20250202T113000;PT10M;2;RachelLoeb/JohnO'Keefe/AbbyGiles/MatthewHultm vs. SeanListon/MattFleming/LibbyListon/AmySmith
END:VEVENT
BEGIN:VEVENT
DTSTART:20250202T142000
DTEND:20250202T150000
SUMMARY:RachelLoeb/JohnO'Keefe/AbbyGiles/MatthewHultm vs. RebeccaHawkins/TylerHawkins/CaraMerritt/DouglasGri
DESCRIPTION:DUPR 15 SQUADS Lou Fusz Winter Classic  - 1:30pm 2/2 - Paddle Up Pickleball Club
LOCATION:Court 5
CATEGORIES:QuickScores; Pickleball Game
TRANSP:0
DALARM:20250202T122000;PT10M;2;RachelLoeb/JohnO'Keefe/AbbyGiles/MatthewHultm vs. RebeccaHawkins/TylerHawkins/CaraMerritt/DouglasGri
END:VEVENT
BEGIN:VEVENT
DTSTART:20250202T151000
DTEND:20250202T155000
SUMMARY:VictoriaWheeler/TyeMalone/KolbyWalker/MercedesWhee vs. RachelLoeb/JohnO'Keefe/AbbyGiles/MatthewHultm
DESCRIPTION:DUPR 15 SQUADS Lou Fusz Winter Classic  - 1:30pm 2/2 - Paddle Up Pickleball Club
LOCATION:Court 4
CATEGORIES:QuickScores; Pickleball Game
TRANSP:0
DALARM:20250202T131000;PT10M;2;VictoriaWheeler/TyeMalone/KolbyWalker/MercedesWhee vs. RachelLoeb/JohnO'Keefe/AbbyGiles/MatthewHultm
END:VEVENT
END:VCALENDAR
