BEGIN:VCALENDAR
VERSION:1.0
BEGIN:VEVENT
DTSTART:20250202T133000
DTEND:20250202T141000
SUMMARY:JeffBee/KyleGottuso/AmandaBurgesen/KimLake vs. MaggieBohannan/TaraApplebaum/NolanBohannan/JackPar
DESCRIPTION:DUPR 15 SQUADS Lou Fusz Winter Classic  - 1:30pm 2/2 - Paddle Up Pickleball Club
LOCATION:Court 7
CATEGORIES:QuickScores; Pickleball Game
TRANSP:0
DALARM:20250202T113000;PT10M;2;JeffBee/KyleGottuso/AmandaBurgesen/KimLake vs. MaggieBohannan/TaraApplebaum/NolanBohannan/JackPar
END:VEVENT
BEGIN:VEVENT
DTSTART:20250202T142000
DTEND:20250202T150000
SUMMARY:MaggieBohannan/TaraApplebaum/NolanBohannan/JackPar vs. ChristineTessereau/NagaPentakota/CarissaRoller/Jas
DESCRIPTION:DUPR 15 SQUADS Lou Fusz Winter Classic  - 1:30pm 2/2 - Paddle Up Pickleball Club
LOCATION:Court 7
CATEGORIES:QuickScores; Pickleball Game
TRANSP:0
DALARM:20250202T122000;PT10M;2;MaggieBohannan/TaraApplebaum/NolanBohannan/JackPar vs. ChristineTessereau/NagaPentakota/CarissaRoller/Jas
END:VEVENT
BEGIN:VEVENT
DTSTART:20250202T151000
DTEND:20250202T155000
SUMMARY:MaggieBohannan/TaraApplebaum/NolanBohannan/JackPar vs. MikeHaupt/DanielleVasiliev/AlyssaPruemer/RobertHol
DESCRIPTION:DUPR 15 SQUADS Lou Fusz Winter Classic  - 1:30pm 2/2 - Paddle Up Pickleball Club
LOCATION:Court 7
CATEGORIES:QuickScores; Pickleball Game
TRANSP:0
DALARM:20250202T131000;PT10M;2;MaggieBohannan/TaraApplebaum/NolanBohannan/JackPar vs. MikeHaupt/DanielleVasiliev/AlyssaPruemer/RobertHol
END:VEVENT
END:VCALENDAR
