BEGIN:VCALENDAR
VERSION:1.0
BEGIN:VEVENT
DTSTART:20250202T133000
DTEND:20250202T141000
SUMMARY:JeffBee/KyleGottuso/AmandaBurgesen/KimLake vs. MaggieBohannan/TaraApplebaum/NolanBohannan/JackPar
DESCRIPTION:DUPR 15 SQUADS Lou Fusz Winter Classic  - 1:30pm 2/2 - Paddle Up Pickleball Club
LOCATION:Court 7
CATEGORIES:QuickScores; Pickleball Game
TRANSP:0
DALARM:20250202T113000;PT10M;2;JeffBee/KyleGottuso/AmandaBurgesen/KimLake vs. MaggieBohannan/TaraApplebaum/NolanBohannan/JackPar
END:VEVENT
BEGIN:VEVENT
DTSTART:20250202T142000
DTEND:20250202T150000
SUMMARY:MikeHaupt/DanielleVasiliev/AlyssaPruemer/RobertHol vs. JeffBee/KyleGottuso/AmandaBurgesen/KimLake
DESCRIPTION:DUPR 15 SQUADS Lou Fusz Winter Classic  - 1:30pm 2/2 - Paddle Up Pickleball Club
LOCATION:Court 1
CATEGORIES:QuickScores; Pickleball Game
TRANSP:0
DALARM:20250202T122000;PT10M;2;MikeHaupt/DanielleVasiliev/AlyssaPruemer/RobertHol vs. JeffBee/KyleGottuso/AmandaBurgesen/KimLake
END:VEVENT
BEGIN:VEVENT
DTSTART:20250202T151000
DTEND:20250202T155000
SUMMARY:ChristineTessereau/NagaPentakota/CarissaRoller/Jas vs. JeffBee/KyleGottuso/AmandaBurgesen/KimLake
DESCRIPTION:DUPR 15 SQUADS Lou Fusz Winter Classic  - 1:30pm 2/2 - Paddle Up Pickleball Club
LOCATION:Court 5
CATEGORIES:QuickScores; Pickleball Game
TRANSP:0
DALARM:20250202T131000;PT10M;2;ChristineTessereau/NagaPentakota/CarissaRoller/Jas vs. JeffBee/KyleGottuso/AmandaBurgesen/KimLake
END:VEVENT
END:VCALENDAR
