BEGIN:VCALENDAR
VERSION:1.0
BEGIN:VEVENT
DTSTART:20250103T183000
DTEND:20250103T185000
SUMMARY:Ellebrecht/Brewer vs. Hosna/Hosna
DESCRIPTION:Friday Night Tourney 1/3 - 6:30pm Start - Paddle Up Pickleball Club
LOCATION:Court 8
CATEGORIES:QuickScores; Pickleball Game
TRANSP:0
DALARM:20250103T163000;PT10M;2;Ellebrecht/Brewer vs. Hosna/Hosna
END:VEVENT
BEGIN:VEVENT
DTSTART:20250103T191000
DTEND:20250103T193000
SUMMARY:Ellebrecht/Brewer vs. Hofman/Hofman
DESCRIPTION:Friday Night Tourney 1/3 - 6:30pm Start - Paddle Up Pickleball Club
LOCATION:Court 5
CATEGORIES:QuickScores; Pickleball Game
TRANSP:0
DALARM:20250103T171000;PT10M;2;Ellebrecht/Brewer vs. Hofman/Hofman
END:VEVENT
BEGIN:VEVENT
DTSTART:20250103T195000
DTEND:20250103T201000
SUMMARY:Durham/Durham vs. Ellebrecht/Brewer
DESCRIPTION:Friday Night Tourney 1/3 - 6:30pm Start - Paddle Up Pickleball Club
LOCATION:Court 2
CATEGORIES:QuickScores; Pickleball Game
TRANSP:0
DALARM:20250103T175000;PT10M;2;Durham/Durham vs. Ellebrecht/Brewer
END:VEVENT
END:VCALENDAR
