BEGIN:VCALENDAR
VERSION:1.0
BEGIN:VEVENT
DTSTART:20250103T183000
DTEND:20250103T185000
SUMMARY:Arras/Malloy vs. Sexton/Huser
DESCRIPTION:Friday Night Tourney 1/3 - 6:30pm Start - Paddle Up Pickleball Club
LOCATION:Court 4
CATEGORIES:QuickScores; Pickleball Game
TRANSP:0
DALARM:20250103T163000;PT10M;2;Arras/Malloy vs. Sexton/Huser
END:VEVENT
BEGIN:VEVENT
DTSTART:20250103T185000
DTEND:20250103T191000
SUMMARY:Rials/Schwartz vs. Sexton/Huser
DESCRIPTION:Friday Night Tourney 1/3 - 6:30pm Start - Paddle Up Pickleball Club
LOCATION:Court 7
CATEGORIES:QuickScores; Pickleball Game
TRANSP:0
DALARM:20250103T165000;PT10M;2;Rials/Schwartz vs. Sexton/Huser
END:VEVENT
BEGIN:VEVENT
DTSTART:20250103T193000
DTEND:20250103T195000
SUMMARY:Sexton/Huser vs. Cartagena/Niemeyer
DESCRIPTION:Friday Night Tourney 1/3 - 6:30pm Start - Paddle Up Pickleball Club
LOCATION:Court 4
CATEGORIES:QuickScores; Pickleball Game
TRANSP:0
DALARM:20250103T173000;PT10M;2;Sexton/Huser vs. Cartagena/Niemeyer
END:VEVENT
END:VCALENDAR
