BEGIN:VCALENDAR
VERSION:1.0
BEGIN:VEVENT
DTSTART:20250103T185000
DTEND:20250103T191000
SUMMARY:Cessna/Cessna vs. White/Paul
DESCRIPTION:Friday Night Tourney 1/3 - 6:30pm Start - Paddle Up Pickleball Club
LOCATION:Court 3
CATEGORIES:QuickScores; Pickleball Game
TRANSP:0
DALARM:20250103T165000;PT10M;2;Cessna/Cessna vs. White/Paul
END:VEVENT
BEGIN:VEVENT
DTSTART:20250103T191000
DTEND:20250103T193000
SUMMARY:Boushard/Lennox vs. Cessna/Cessna
DESCRIPTION:Friday Night Tourney 1/3 - 6:30pm Start - Paddle Up Pickleball Club
LOCATION:Court 1
CATEGORIES:QuickScores; Pickleball Game
TRANSP:0
DALARM:20250103T171000;PT10M;2;Boushard/Lennox vs. Cessna/Cessna
END:VEVENT
BEGIN:VEVENT
DTSTART:20250103T195000
DTEND:20250103T201000
SUMMARY:Daffron/Castnda vs. Cessna/Cessna
DESCRIPTION:Friday Night Tourney 1/3 - 6:30pm Start - Paddle Up Pickleball Club
LOCATION:Court 1
CATEGORIES:QuickScores; Pickleball Game
TRANSP:0
DALARM:20250103T175000;PT10M;2;Daffron/Castnda vs. Cessna/Cessna
END:VEVENT
END:VCALENDAR
