BEGIN:VCALENDAR
VERSION:1.0
BEGIN:VEVENT
DTSTART:20250103T185000
DTEND:20250103T191000
SUMMARY:Durham/Durham vs. Gerleman/Ray
DESCRIPTION:Friday Night Tourney 1/3 - 6:30pm Start - Paddle Up Pickleball Club
LOCATION:Court 2
CATEGORIES:QuickScores; Pickleball Game
TRANSP:0
DALARM:20250103T165000;PT10M;2;Durham/Durham vs. Gerleman/Ray
END:VEVENT
BEGIN:VEVENT
DTSTART:20250103T193000
DTEND:20250103T195000
SUMMARY:Gerleman/Ray vs. Daffron/Castnda
DESCRIPTION:Friday Night Tourney 1/3 - 6:30pm Start - Paddle Up Pickleball Club
LOCATION:Court 6
CATEGORIES:QuickScores; Pickleball Game
TRANSP:0
DALARM:20250103T173000;PT10M;2;Gerleman/Ray vs. Daffron/Castnda
END:VEVENT
BEGIN:VEVENT
DTSTART:20250103T195000
DTEND:20250103T201000
SUMMARY:Gerleman/Ray vs. White/Paul
DESCRIPTION:Friday Night Tourney 1/3 - 6:30pm Start - Paddle Up Pickleball Club
LOCATION:Court 9
CATEGORIES:QuickScores; Pickleball Game
TRANSP:0
DALARM:20250103T175000;PT10M;2;Gerleman/Ray vs. White/Paul
END:VEVENT
END:VCALENDAR
