BEGIN:VCALENDAR
VERSION:1.0
BEGIN:VEVENT
DTSTART:20250103T183000
DTEND:20250103T185000
SUMMARY:Merritt/Brewer vs. Gonzalez/Gonzalez
DESCRIPTION:Friday Night Tourney 1/3 - 6:30pm Start - Paddle Up Pickleball Club
LOCATION:Court 7
CATEGORIES:QuickScores; Pickleball Game
TRANSP:0
DALARM:20250103T163000;PT10M;2;Merritt/Brewer vs. Gonzalez/Gonzalez
END:VEVENT
BEGIN:VEVENT
DTSTART:20250103T191000
DTEND:20250103T193000
SUMMARY:Merritt/Brewer vs. Kendrick/Diller
DESCRIPTION:Friday Night Tourney 1/3 - 6:30pm Start - Paddle Up Pickleball Club
LOCATION:Court 3
CATEGORIES:QuickScores; Pickleball Game
TRANSP:0
DALARM:20250103T171000;PT10M;2;Merritt/Brewer vs. Kendrick/Diller
END:VEVENT
BEGIN:VEVENT
DTSTART:20250103T193000
DTEND:20250103T195000
SUMMARY:Eddy/Stern vs. Merritt/Brewer
DESCRIPTION:Friday Night Tourney 1/3 - 6:30pm Start - Paddle Up Pickleball Club
LOCATION:Court 7
CATEGORIES:QuickScores; Pickleball Game
TRANSP:0
DALARM:20250103T173000;PT10M;2;Eddy/Stern vs. Merritt/Brewer
END:VEVENT
BEGIN:VEVENT
DTSTART:20250103T195000
DTEND:20250103T201000
SUMMARY:Kruse/Pagano vs. Merritt/Brewer
DESCRIPTION:Friday Night Tourney 1/3 - 6:30pm Start - Paddle Up Pickleball Club
LOCATION:Court 4
CATEGORIES:QuickScores; Pickleball Game
TRANSP:0
DALARM:20250103T175000;PT10M;2;Kruse/Pagano vs. Merritt/Brewer
END:VEVENT
END:VCALENDAR
