BEGIN:VCALENDAR
VERSION:1.0
BEGIN:VEVENT
DTSTART:20241228T174000
DTEND:20241228T180000
SUMMARY:NickBorger/GarrettHallemeier vs. JohnHarte/BlakeHuskey
DESCRIPTION:Santa Smash Mens Doubles (4.0+) 5:30pm 12/21 - Paddle Up Pickleball Club
LOCATION:Court 7
CATEGORIES:QuickScores; Pickleball Game
TRANSP:0
DALARM:20241228T154000;PT10M;2;NickBorger/GarrettHallemeier vs. JohnHarte/BlakeHuskey
END:VEVENT
BEGIN:VEVENT
DTSTART:20241228T180000
DTEND:20241228T182000
SUMMARY:JohnHarte/BlakeHuskey vs. LotfiEl-Haw/RamyShoela
DESCRIPTION:Santa Smash Mens Doubles (4.0+) 5:30pm 12/21 - Paddle Up Pickleball Club
LOCATION:Court 9
CATEGORIES:QuickScores; Pickleball Game
TRANSP:0
DALARM:20241228T160000;PT10M;2;JohnHarte/BlakeHuskey vs. LotfiEl-Haw/RamyShoela
END:VEVENT
BEGIN:VEVENT
DTSTART:20241228T184000
DTEND:20241228T190000
SUMMARY:ChaseBlickhan/CarterSmith vs. JohnHarte/BlakeHuskey
DESCRIPTION:Santa Smash Mens Doubles (4.0+) 5:30pm 12/21 - Paddle Up Pickleball Club
LOCATION:Court 9
CATEGORIES:QuickScores; Pickleball Game
TRANSP:0
DALARM:20241228T164000;PT10M;2;ChaseBlickhan/CarterSmith vs. JohnHarte/BlakeHuskey
END:VEVENT
BEGIN:VEVENT
DTSTART:20241228T190000
DTEND:20241228T192000
SUMMARY:JohnHarte/BlakeHuskey vs. KyleLaramie/ChrisCarpenter
DESCRIPTION:Santa Smash Mens Doubles (4.0+) 5:30pm 12/21 - Paddle Up Pickleball Club
LOCATION:Court 7
CATEGORIES:QuickScores; Pickleball Game
TRANSP:0
DALARM:20241228T170000;PT10M;2;JohnHarte/BlakeHuskey vs. KyleLaramie/ChrisCarpenter
END:VEVENT
BEGIN:VEVENT
DTSTART:20241228T192000
DTEND:20241228T194000
SUMMARY:JohnHarte/BlakeHuskey vs. ChuckKuehl/RyanNiedermayer
DESCRIPTION:Santa Smash Mens Doubles (4.0+) 5:30pm 12/21 - Paddle Up Pickleball Club
LOCATION:Court 6
CATEGORIES:QuickScores; Pickleball Game
TRANSP:0
DALARM:20241228T172000;PT10M;2;JohnHarte/BlakeHuskey vs. ChuckKuehl/RyanNiedermayer
END:VEVENT
BEGIN:VEVENT
DTSTART:20241228T194000
DTEND:20241228T200000
SUMMARY:MarcusDinora/JadonWing vs. JohnHarte/BlakeHuskey
DESCRIPTION:Santa Smash Mens Doubles (4.0+) 5:30pm 12/21 - Paddle Up Pickleball Club
LOCATION:Court 4
CATEGORIES:QuickScores; Pickleball Game
TRANSP:0
DALARM:20241228T174000;PT10M;2;MarcusDinora/JadonWing vs. JohnHarte/BlakeHuskey
END:VEVENT
BEGIN:VEVENT
DTSTART:20241228T200000
DTEND:20241228T202000
SUMMARY:JohnHarte/BlakeHuskey vs. JonRichert/BryceGamache
DESCRIPTION:Santa Smash Mens Doubles (4.0+) 5:30pm 12/21 - Paddle Up Pickleball Club
LOCATION:Court 2
CATEGORIES:QuickScores; Pickleball Game
TRANSP:0
DALARM:20241228T180000;PT10M;2;JohnHarte/BlakeHuskey vs. JonRichert/BryceGamache
END:VEVENT
END:VCALENDAR
