BEGIN:VCALENDAR
VERSION:1.0
BEGIN:VEVENT
DTSTART:20250112T200000
DTEND:20250112T204000
SUMMARY:Gibson/Gibson vs. Breunig/Elguezabal
DESCRIPTION:PUPC Sunday High Intermediate League - Winter25 - Paddle Up Pickleball Club
LOCATION:Court 2
CATEGORIES:QuickScores; Pickleball Game
TRANSP:0
DALARM:20250112T180000;PT10M;2;Gibson/Gibson vs. Breunig/Elguezabal
END:VEVENT
BEGIN:VEVENT
DTSTART:20250112T204000
DTEND:20250112T212000
SUMMARY:Flinn/Turner vs. Breunig/Elguezabal
DESCRIPTION:PUPC Sunday High Intermediate League - Winter25 - Paddle Up Pickleball Club
LOCATION:Court 2
CATEGORIES:QuickScores; Pickleball Game
TRANSP:0
DALARM:20250112T184000;PT10M;2;Flinn/Turner vs. Breunig/Elguezabal
END:VEVENT
BEGIN:VEVENT
DTSTART:20250119T180000
DTEND:20250119T184000
SUMMARY:Breunig/Elguezabal vs. Presley/Presley
DESCRIPTION:PUPC Sunday High Intermediate League - Winter25 - Paddle Up Pickleball Club
LOCATION:Court 3
CATEGORIES:QuickScores; Pickleball Game
TRANSP:0
DALARM:20250119T160000;PT10M;2;Breunig/Elguezabal vs. Presley/Presley
END:VEVENT
BEGIN:VEVENT
DTSTART:20250119T192000
DTEND:20250119T200000
SUMMARY:Breunig/Elguezabal vs. Rees/Meyer
DESCRIPTION:PUPC Sunday High Intermediate League - Winter25 - Paddle Up Pickleball Club
LOCATION:Court 3
CATEGORIES:QuickScores; Pickleball Game
TRANSP:0
DALARM:20250119T172000;PT10M;2;Breunig/Elguezabal vs. Rees/Meyer
END:VEVENT
BEGIN:VEVENT
DTSTART:20250202T192000
DTEND:20250202T200000
SUMMARY:Breunig/Elguezabal vs. Rizzo/Schwent
DESCRIPTION:PUPC Sunday High Intermediate League - Winter25 - Paddle Up Pickleball Club
LOCATION:Court 6
CATEGORIES:QuickScores; Pickleball Game
TRANSP:0
DALARM:20250202T172000;PT10M;2;Breunig/Elguezabal vs. Rizzo/Schwent
END:VEVENT
BEGIN:VEVENT
DTSTART:20250202T200000
DTEND:20250202T204000
SUMMARY:Leppert/Leppert vs. Breunig/Elguezabal
DESCRIPTION:PUPC Sunday High Intermediate League - Winter25 - Paddle Up Pickleball Club
LOCATION:Court 6
CATEGORIES:QuickScores; Pickleball Game
TRANSP:0
DALARM:20250202T180000;PT10M;2;Leppert/Leppert vs. Breunig/Elguezabal
END:VEVENT
BEGIN:VEVENT
DTSTART:20250216T180000
DTEND:20250216T184000
SUMMARY:Breunig/Elguezabal vs. Presley/Presley
DESCRIPTION:PUPC Sunday High Intermediate League - Winter25 - Paddle Up Pickleball Club
LOCATION:Court 2
CATEGORIES:QuickScores; Pickleball Game
TRANSP:0
DALARM:20250216T160000;PT10M;2;Breunig/Elguezabal vs. Presley/Presley
END:VEVENT
BEGIN:VEVENT
DTSTART:20250216T184000
DTEND:20250216T192000
SUMMARY:Breunig/Elguezabal vs. Thomson/Barth
DESCRIPTION:PUPC Sunday High Intermediate League - Winter25 - Paddle Up Pickleball Club
LOCATION:Court 1
CATEGORIES:QuickScores; Pickleball Game
TRANSP:0
DALARM:20250216T164000;PT10M;2;Breunig/Elguezabal vs. Thomson/Barth
END:VEVENT
BEGIN:VEVENT
DTSTART:20250223T190000
DTEND:20250223T193000
SUMMARY:Rees/Meyer vs. Breunig/Elguezabal
DESCRIPTION:PUPC Sunday High Intermediate League - Winter25 - Paddle Up Pickleball Club
LOCATION:Court 2
CATEGORIES:QuickScores; Pickleball Game
TRANSP:0
DALARM:20250223T170000;PT10M;2;Rees/Meyer vs. Breunig/Elguezabal
END:VEVENT
END:VCALENDAR
