BEGIN:VCALENDAR
VERSION:1.0
BEGIN:VEVENT
DTSTART:20241213T183000
DTEND:20241213T185000
SUMMARY:Chu/Woodard vs. Castagna/Stine
DESCRIPTION:Friday Night Tourney 12/13 - 6pm - Paddle Up Pickleball Club
LOCATION:Court 6
CATEGORIES:QuickScores; Pickleball Game
TRANSP:0
DALARM:20241213T163000;PT10M;2;Chu/Woodard vs. Castagna/Stine
END:VEVENT
BEGIN:VEVENT
DTSTART:20241213T191000
DTEND:20241213T193000
SUMMARY:Eckman/Eckman vs. Castagna/Stine
DESCRIPTION:Friday Night Tourney 12/13 - 6pm - Paddle Up Pickleball Club
LOCATION:Court 7
CATEGORIES:QuickScores; Pickleball Game
TRANSP:0
DALARM:20241213T171000;PT10M;2;Eckman/Eckman vs. Castagna/Stine
END:VEVENT
BEGIN:VEVENT
DTSTART:20241213T195000
DTEND:20241213T201000
SUMMARY:Castagna/Stine vs. Heinrich/Reidelberger
DESCRIPTION:Friday Night Tourney 12/13 - 6pm - Paddle Up Pickleball Club
LOCATION:Court 5
CATEGORIES:QuickScores; Pickleball Game
TRANSP:0
DALARM:20241213T175000;PT10M;2;Castagna/Stine vs. Heinrich/Reidelberger
END:VEVENT
END:VCALENDAR
