BEGIN:VCALENDAR
VERSION:1.0
BEGIN:VEVENT
DTSTART:20241228T174000
DTEND:20241228T180000
SUMMARY:DerekDallas/NathanDallas vs. MatthewHultman/JohnO'Keefe
DESCRIPTION:Santa Smash Mens Doubles (4.0+) 5:30pm 12/21 - Paddle Up Pickleball Club
LOCATION:Court 8
CATEGORIES:QuickScores; Pickleball Game
TRANSP:0
DALARM:20241228T154000;PT10M;2;DerekDallas/NathanDallas vs. MatthewHultman/JohnO'Keefe
END:VEVENT
BEGIN:VEVENT
DTSTART:20241228T182000
DTEND:20241228T184000
SUMMARY:TimGoble/JasonRule vs. MatthewHultman/JohnO'Keefe
DESCRIPTION:Santa Smash Mens Doubles (4.0+) 5:30pm 12/21 - Paddle Up Pickleball Club
LOCATION:Court 7
CATEGORIES:QuickScores; Pickleball Game
TRANSP:0
DALARM:20241228T162000;PT10M;2;TimGoble/JasonRule vs. MatthewHultman/JohnO'Keefe
END:VEVENT
BEGIN:VEVENT
DTSTART:20241228T184000
DTEND:20241228T190000
SUMMARY:MatthewHultman/JohnO'Keefe vs. KenTrokey/MattTrokey
DESCRIPTION:Santa Smash Mens Doubles (4.0+) 5:30pm 12/21 - Paddle Up Pickleball Club
LOCATION:Court 2
CATEGORIES:QuickScores; Pickleball Game
TRANSP:0
DALARM:20241228T164000;PT10M;2;MatthewHultman/JohnO'Keefe vs. KenTrokey/MattTrokey
END:VEVENT
BEGIN:VEVENT
DTSTART:20241228T190000
DTEND:20241228T192000
SUMMARY:MatthewHultman/JohnO'Keefe vs. JustinXu/EthanXu
DESCRIPTION:Santa Smash Mens Doubles (4.0+) 5:30pm 12/21 - Paddle Up Pickleball Club
LOCATION:Court 4
CATEGORIES:QuickScores; Pickleball Game
TRANSP:0
DALARM:20241228T170000;PT10M;2;MatthewHultman/JohnO'Keefe vs. JustinXu/EthanXu
END:VEVENT
BEGIN:VEVENT
DTSTART:20241228T192000
DTEND:20241228T194000
SUMMARY:ShivaGarimella/ChrisBullock vs. MatthewHultman/JohnO'Keefe
DESCRIPTION:Santa Smash Mens Doubles (4.0+) 5:30pm 12/21 - Paddle Up Pickleball Club
LOCATION:Court 5
CATEGORIES:QuickScores; Pickleball Game
TRANSP:0
DALARM:20241228T172000;PT10M;2;ShivaGarimella/ChrisBullock vs. MatthewHultman/JohnO'Keefe
END:VEVENT
BEGIN:VEVENT
DTSTART:20241228T194000
DTEND:20241228T200000
SUMMARY:DanSerbin/JonPisoni vs. MatthewHultman/JohnO'Keefe
DESCRIPTION:Santa Smash Mens Doubles (4.0+) 5:30pm 12/21 - Paddle Up Pickleball Club
LOCATION:Court 8
CATEGORIES:QuickScores; Pickleball Game
TRANSP:0
DALARM:20241228T174000;PT10M;2;DanSerbin/JonPisoni vs. MatthewHultman/JohnO'Keefe
END:VEVENT
BEGIN:VEVENT
DTSTART:20241228T200000
DTEND:20241228T202000
SUMMARY:MatthewHultman/JohnO'Keefe vs. PrestonBehlmann/MikeBerry
DESCRIPTION:Santa Smash Mens Doubles (4.0+) 5:30pm 12/21 - Paddle Up Pickleball Club
LOCATION:Court 5
CATEGORIES:QuickScores; Pickleball Game
TRANSP:0
DALARM:20241228T180000;PT10M;2;MatthewHultman/JohnO'Keefe vs. PrestonBehlmann/MikeBerry
END:VEVENT
END:VCALENDAR
