BEGIN:VCALENDAR
VERSION:1.0
BEGIN:VEVENT
DTSTART:20241222T090000
DTEND:20241222T092000
SUMMARY:LoriGibson/NickGibson vs. ChrisMiles/LauraMiles
DESCRIPTION:Santa Smash Mixed Doubles Rec/LowInt 9am 12/22 - Paddle Up Pickleball Club
LOCATION:Court 2
CATEGORIES:QuickScores; Pickleball Game
TRANSP:0
DALARM:20241222T070000;PT10M;2;LoriGibson/NickGibson vs. ChrisMiles/LauraMiles
END:VEVENT
BEGIN:VEVENT
DTSTART:20241222T094000
DTEND:20241222T100000
SUMMARY:ChrisMiles/LauraMiles vs. AlaynaHosna/BrianVanAmburgh
DESCRIPTION:Santa Smash Mixed Doubles Rec/LowInt 9am 12/22 - Paddle Up Pickleball Club
LOCATION:Court 4
CATEGORIES:QuickScores; Pickleball Game
TRANSP:0
DALARM:20241222T074000;PT10M;2;ChrisMiles/LauraMiles vs. AlaynaHosna/BrianVanAmburgh
END:VEVENT
BEGIN:VEVENT
DTSTART:20241222T100000
DTEND:20241222T102000
SUMMARY:JustinFears/NicciFears vs. ChrisMiles/LauraMiles
DESCRIPTION:Santa Smash Mixed Doubles Rec/LowInt 9am 12/22 - Paddle Up Pickleball Club
LOCATION:Court 8
CATEGORIES:QuickScores; Pickleball Game
TRANSP:0
DALARM:20241222T080000;PT10M;2;JustinFears/NicciFears vs. ChrisMiles/LauraMiles
END:VEVENT
BEGIN:VEVENT
DTSTART:20241222T104000
DTEND:20241222T110000
SUMMARY:EduardoGomez/MarinaConklin vs. ChrisMiles/LauraMiles
DESCRIPTION:Santa Smash Mixed Doubles Rec/LowInt 9am 12/22 - Paddle Up Pickleball Club
LOCATION:Court 4
CATEGORIES:QuickScores; Pickleball Game
TRANSP:0
DALARM:20241222T084000;PT10M;2;EduardoGomez/MarinaConklin vs. ChrisMiles/LauraMiles
END:VEVENT
BEGIN:VEVENT
DTSTART:20241222T110000
DTEND:20241222T112000
SUMMARY:ChrisMiles/LauraMiles vs. SaraVanAmburgh/JoeClay
DESCRIPTION:Santa Smash Mixed Doubles Rec/LowInt 9am 12/22 - Paddle Up Pickleball Club
LOCATION:Court 1
CATEGORIES:QuickScores; Pickleball Game
TRANSP:0
DALARM:20241222T090000;PT10M;2;ChrisMiles/LauraMiles vs. SaraVanAmburgh/JoeClay
END:VEVENT
BEGIN:VEVENT
DTSTART:20241222T114000
DTEND:20241222T120000
SUMMARY:ChrisMiles/LauraMiles vs. MaggieBohannan/NolanBohannan
DESCRIPTION:Santa Smash Mixed Doubles Rec/LowInt 9am 12/22 - Paddle Up Pickleball Club
LOCATION:Court 6
CATEGORIES:QuickScores; Pickleball Game
TRANSP:0
DALARM:20241222T094000;PT10M;2;ChrisMiles/LauraMiles vs. MaggieBohannan/NolanBohannan
END:VEVENT
END:VCALENDAR
