BEGIN:VCALENDAR
VERSION:1.0
BEGIN:VEVENT
DTSTART:20241222T092000
DTEND:20241222T094000
SUMMARY:SaraVanAmburgh/JoeClay vs. CarolineChi/YiaYang
DESCRIPTION:Santa Smash Mixed Doubles Rec/LowInt 9am 12/22 - Paddle Up Pickleball Club
LOCATION:Court 9
CATEGORIES:QuickScores; Pickleball Game
TRANSP:0
DALARM:20241222T072000;PT10M;2;SaraVanAmburgh/JoeClay vs. CarolineChi/YiaYang
END:VEVENT
BEGIN:VEVENT
DTSTART:20241222T100000
DTEND:20241222T102000
SUMMARY:CarolineChi/YiaYang vs. DanielleDuHadway/RobDuHadway
DESCRIPTION:Santa Smash Mixed Doubles Rec/LowInt 9am 12/22 - Paddle Up Pickleball Club
LOCATION:Court 2
CATEGORIES:QuickScores; Pickleball Game
TRANSP:0
DALARM:20241222T080000;PT10M;2;CarolineChi/YiaYang vs. DanielleDuHadway/RobDuHadway
END:VEVENT
BEGIN:VEVENT
DTSTART:20241222T102000
DTEND:20241222T104000
SUMMARY:EduardoGomez/MarinaConklin vs. CarolineChi/YiaYang
DESCRIPTION:Santa Smash Mixed Doubles Rec/LowInt 9am 12/22 - Paddle Up Pickleball Club
LOCATION:Court 9
CATEGORIES:QuickScores; Pickleball Game
TRANSP:0
DALARM:20241222T082000;PT10M;2;EduardoGomez/MarinaConklin vs. CarolineChi/YiaYang
END:VEVENT
BEGIN:VEVENT
DTSTART:20241222T104000
DTEND:20241222T110000
SUMMARY:CarolineChi/YiaYang vs. LoriGibson/NickGibson
DESCRIPTION:Santa Smash Mixed Doubles Rec/LowInt 9am 12/22 - Paddle Up Pickleball Club
LOCATION:Court 7
CATEGORIES:QuickScores; Pickleball Game
TRANSP:0
DALARM:20241222T084000;PT10M;2;CarolineChi/YiaYang vs. LoriGibson/NickGibson
END:VEVENT
BEGIN:VEVENT
DTSTART:20241222T112000
DTEND:20241222T114000
SUMMARY:CarolineChi/YiaYang vs. AlaynaHosna/BrianVanAmburgh
DESCRIPTION:Santa Smash Mixed Doubles Rec/LowInt 9am 12/22 - Paddle Up Pickleball Club
LOCATION:Court 7
CATEGORIES:QuickScores; Pickleball Game
TRANSP:0
DALARM:20241222T092000;PT10M;2;CarolineChi/YiaYang vs. AlaynaHosna/BrianVanAmburgh
END:VEVENT
BEGIN:VEVENT
DTSTART:20241222T120000
DTEND:20241222T122000
SUMMARY:ToddLane/AshlynLane vs. CarolineChi/YiaYang
DESCRIPTION:Santa Smash Mixed Doubles Rec/LowInt 9am 12/22 - Paddle Up Pickleball Club
LOCATION:Court 5
CATEGORIES:QuickScores; Pickleball Game
TRANSP:0
DALARM:20241222T100000;PT10M;2;ToddLane/AshlynLane vs. CarolineChi/YiaYang
END:VEVENT
END:VCALENDAR
