BEGIN:VCALENDAR
VERSION:1.0
BEGIN:VEVENT
DTSTART:20241222T090000
DTEND:20241222T092000
SUMMARY:MaryKelley//DanKelley vs. WhitneyDurham/ScottDurham
DESCRIPTION:Santa Smash Mixed Doubles Rec/LowInt 9am 12/22 - Paddle Up Pickleball Club
LOCATION:Court 3
CATEGORIES:QuickScores; Pickleball Game
TRANSP:0
DALARM:20241222T070000;PT10M;2;MaryKelley//DanKelley vs. WhitneyDurham/ScottDurham
END:VEVENT
BEGIN:VEVENT
DTSTART:20241222T094000
DTEND:20241222T100000
SUMMARY:PaulKirkseyAnneDennison vs. WhitneyDurham/ScottDurham
DESCRIPTION:Santa Smash Mixed Doubles Rec/LowInt 9am 12/22 - Paddle Up Pickleball Club
LOCATION:Court 5
CATEGORIES:QuickScores; Pickleball Game
TRANSP:0
DALARM:20241222T074000;PT10M;2;PaulKirkseyAnneDennison vs. WhitneyDurham/ScottDurham
END:VEVENT
BEGIN:VEVENT
DTSTART:20241222T102000
DTEND:20241222T104000
SUMMARY:MarieJenkins/BrianJenkins vs. WhitneyDurham/ScottDurham
DESCRIPTION:Santa Smash Mixed Doubles Rec/LowInt 9am 12/22 - Paddle Up Pickleball Club
LOCATION:Court 8
CATEGORIES:QuickScores; Pickleball Game
TRANSP:0
DALARM:20241222T082000;PT10M;2;MarieJenkins/BrianJenkins vs. WhitneyDurham/ScottDurham
END:VEVENT
BEGIN:VEVENT
DTSTART:20241222T104000
DTEND:20241222T110000
SUMMARY:WhitneyDurham/ScottDurham vs. NoalPresley/GinaPresley
DESCRIPTION:Santa Smash Mixed Doubles Rec/LowInt 9am 12/22 - Paddle Up Pickleball Club
LOCATION:Court 5
CATEGORIES:QuickScores; Pickleball Game
TRANSP:0
DALARM:20241222T084000;PT10M;2;WhitneyDurham/ScottDurham vs. NoalPresley/GinaPresley
END:VEVENT
BEGIN:VEVENT
DTSTART:20241222T112000
DTEND:20241222T114000
SUMMARY:WhitneyDurham/ScottDurham vs. KellyBeard/PhilTessereau
DESCRIPTION:Santa Smash Mixed Doubles Rec/LowInt 9am 12/22 - Paddle Up Pickleball Club
LOCATION:Court 8
CATEGORIES:QuickScores; Pickleball Game
TRANSP:0
DALARM:20241222T092000;PT10M;2;WhitneyDurham/ScottDurham vs. KellyBeard/PhilTessereau
END:VEVENT
BEGIN:VEVENT
DTSTART:20241222T120000
DTEND:20241222T122000
SUMMARY:WhitneyDurham/ScottDurham vs. MattBremer/DeniseGlenn
DESCRIPTION:Santa Smash Mixed Doubles Rec/LowInt 9am 12/22 - Paddle Up Pickleball Club
LOCATION:Court 3
CATEGORIES:QuickScores; Pickleball Game
TRANSP:0
DALARM:20241222T100000;PT10M;2;WhitneyDurham/ScottDurham vs. MattBremer/DeniseGlenn
END:VEVENT
END:VCALENDAR
