BEGIN:VCALENDAR
VERSION:1.0
BEGIN:VEVENT
DTSTART:20241222T090000
DTEND:20241222T092000
SUMMARY:MarieJenkins/BrianJenkins vs. PaulKirkseyAnneDennison
DESCRIPTION:Santa Smash Mixed Doubles Rec/LowInt 9am 12/22 - Paddle Up Pickleball Club
LOCATION:Court 4
CATEGORIES:QuickScores; Pickleball Game
TRANSP:0
DALARM:20241222T070000;PT10M;2;MarieJenkins/BrianJenkins vs. PaulKirkseyAnneDennison
END:VEVENT
BEGIN:VEVENT
DTSTART:20241222T094000
DTEND:20241222T100000
SUMMARY:MarieJenkins/BrianJenkins vs. MattBremer/DeniseGlenn
DESCRIPTION:Santa Smash Mixed Doubles Rec/LowInt 9am 12/22 - Paddle Up Pickleball Club
LOCATION:Court 8
CATEGORIES:QuickScores; Pickleball Game
TRANSP:0
DALARM:20241222T074000;PT10M;2;MarieJenkins/BrianJenkins vs. MattBremer/DeniseGlenn
END:VEVENT
BEGIN:VEVENT
DTSTART:20241222T102000
DTEND:20241222T104000
SUMMARY:MarieJenkins/BrianJenkins vs. WhitneyDurham/ScottDurham
DESCRIPTION:Santa Smash Mixed Doubles Rec/LowInt 9am 12/22 - Paddle Up Pickleball Club
LOCATION:Court 8
CATEGORIES:QuickScores; Pickleball Game
TRANSP:0
DALARM:20241222T082000;PT10M;2;MarieJenkins/BrianJenkins vs. WhitneyDurham/ScottDurham
END:VEVENT
BEGIN:VEVENT
DTSTART:20241222T110000
DTEND:20241222T112000
SUMMARY:KellyBeard/PhilTessereau vs. MarieJenkins/BrianJenkins
DESCRIPTION:Santa Smash Mixed Doubles Rec/LowInt 9am 12/22 - Paddle Up Pickleball Club
LOCATION:Court 6
CATEGORIES:QuickScores; Pickleball Game
TRANSP:0
DALARM:20241222T090000;PT10M;2;KellyBeard/PhilTessereau vs. MarieJenkins/BrianJenkins
END:VEVENT
BEGIN:VEVENT
DTSTART:20241222T114000
DTEND:20241222T120000
SUMMARY:BeckyBee/RyanEckman vs. MarieJenkins/BrianJenkins
DESCRIPTION:Santa Smash Mixed Doubles Rec/LowInt 9am 12/22 - Paddle Up Pickleball Club
LOCATION:Court 5
CATEGORIES:QuickScores; Pickleball Game
TRANSP:0
DALARM:20241222T094000;PT10M;2;BeckyBee/RyanEckman vs. MarieJenkins/BrianJenkins
END:VEVENT
BEGIN:VEVENT
DTSTART:20241222T120000
DTEND:20241222T122000
SUMMARY:MaryKelley//DanKelley vs. MarieJenkins/BrianJenkins
DESCRIPTION:Santa Smash Mixed Doubles Rec/LowInt 9am 12/22 - Paddle Up Pickleball Club
LOCATION:Court 7
CATEGORIES:QuickScores; Pickleball Game
TRANSP:0
DALARM:20241222T100000;PT10M;2;MaryKelley//DanKelley vs. MarieJenkins/BrianJenkins
END:VEVENT
END:VCALENDAR
