BEGIN:VCALENDAR
VERSION:1.0
BEGIN:VEVENT
DTSTART:20241121T184000
DTEND:20241121T192000
SUMMARY:Chi/Beauchamp vs. Herdt/Herdt
DESCRIPTION:PUPC Thursday Low Inter - EarlyWinter24 - Paddle Up Pickleball Club
LOCATION:Court 3
CATEGORIES:QuickScores; Pickleball Game
TRANSP:0
DALARM:20241121T164000;PT10M;2;Chi/Beauchamp vs. Herdt/Herdt
END:VEVENT
BEGIN:VEVENT
DTSTART:20241121T192000
DTEND:20241121T200000
SUMMARY:Chi/Beauchamp vs. Miles/Miles
DESCRIPTION:PUPC Thursday Low Inter - EarlyWinter24 - Paddle Up Pickleball Club
LOCATION:Court 6
CATEGORIES:QuickScores; Pickleball Game
TRANSP:0
DALARM:20241121T172000;PT10M;2;Chi/Beauchamp vs. Miles/Miles
END:VEVENT
BEGIN:VEVENT
DTSTART:20241205T184000
DTEND:20241205T192000
SUMMARY:Chi/Beauchamp vs. Gordon/Gordon
DESCRIPTION:PUPC Thursday Low Inter - EarlyWinter24 - Paddle Up Pickleball Club
LOCATION:Court 3
CATEGORIES:QuickScores; Pickleball Game
TRANSP:0
DALARM:20241205T164000;PT10M;2;Chi/Beauchamp vs. Gordon/Gordon
END:VEVENT
BEGIN:VEVENT
DTSTART:20241205T192000
DTEND:20241205T200000
SUMMARY:Steinbeck/Steinbeck vs. Chi/Beauchamp
DESCRIPTION:PUPC Thursday Low Inter - EarlyWinter24 - Paddle Up Pickleball Club
LOCATION:Court 6
CATEGORIES:QuickScores; Pickleball Game
TRANSP:0
DALARM:20241205T172000;PT10M;2;Steinbeck/Steinbeck vs. Chi/Beauchamp
END:VEVENT
BEGIN:VEVENT
DTSTART:20241212T184000
DTEND:20241212T192000
SUMMARY:Miles/Miles vs. Chi/Beauchamp
DESCRIPTION:PUPC Thursday Low Inter - EarlyWinter24 - Paddle Up Pickleball Club
LOCATION:Court 3
CATEGORIES:QuickScores; Pickleball Game
TRANSP:0
DALARM:20241212T164000;PT10M;2;Miles/Miles vs. Chi/Beauchamp
END:VEVENT
BEGIN:VEVENT
DTSTART:20241212T192000
DTEND:20241212T200000
SUMMARY:Schneider/Riebel vs. Chi/Beauchamp
DESCRIPTION:PUPC Thursday Low Inter - EarlyWinter24 - Paddle Up Pickleball Club
LOCATION:Court 6
CATEGORIES:QuickScores; Pickleball Game
TRANSP:0
DALARM:20241212T172000;PT10M;2;Schneider/Riebel vs. Chi/Beauchamp
END:VEVENT
BEGIN:VEVENT
DTSTART:20241219T184000
DTEND:20241219T192000
SUMMARY:Struckman/McCarter vs. Chi/Beauchamp
DESCRIPTION:PUPC Thursday Low Inter - EarlyWinter24 - Paddle Up Pickleball Club
LOCATION:Court 3
CATEGORIES:QuickScores; Pickleball Game
TRANSP:0
DALARM:20241219T164000;PT10M;2;Struckman/McCarter vs. Chi/Beauchamp
END:VEVENT
BEGIN:VEVENT
DTSTART:20241219T192000
DTEND:20241219T200000
SUMMARY:Herdt/Herdt vs. Chi/Beauchamp
DESCRIPTION:PUPC Thursday Low Inter - EarlyWinter24 - Paddle Up Pickleball Club
LOCATION:Court 3
CATEGORIES:QuickScores; Pickleball Game
TRANSP:0
DALARM:20241219T172000;PT10M;2;Herdt/Herdt vs. Chi/Beauchamp
END:VEVENT
BEGIN:VEVENT
DTSTART:20250102T190000
DTEND:20250102T193000
SUMMARY:[2] Steinbeck/Steinbeck vs. [7] Chi/Beauchamp
DESCRIPTION:PUPC Thursday Low Inter - EarlyWinter24 - Paddle Up Pickleball Club
LOCATION:Court 2
CATEGORIES:QuickScores; Pickleball Game
TRANSP:0
DALARM:20250102T170000;PT10M;2;[2] Steinbeck/Steinbeck vs. [7] Chi/Beauchamp
END:VEVENT
END:VCALENDAR
