BEGIN:VCALENDAR
VERSION:1.0
BEGIN:VEVENT
DTSTART:20241119T192000
DTEND:20241119T200000
SUMMARY:Dare/O'Keefe vs. Segelle/Wu
DESCRIPTION:PUPC Tuesday Recreational - EarlyWinter24 - Paddle Up Pickleball Club
LOCATION:Court 8
CATEGORIES:QuickScores; Pickleball Game
TRANSP:0
DALARM:20241119T172000;PT10M;2;Dare/O'Keefe vs. Segelle/Wu
END:VEVENT
BEGIN:VEVENT
DTSTART:20241119T204000
DTEND:20241119T212000
SUMMARY:Dare/O'Keefe vs. TStiers/RSchiffer
DESCRIPTION:PUPC Tuesday Recreational - EarlyWinter24 - Paddle Up Pickleball Club
LOCATION:Court 8
CATEGORIES:QuickScores; Pickleball Game
TRANSP:0
DALARM:20241119T184000;PT10M;2;Dare/O'Keefe vs. TStiers/RSchiffer
END:VEVENT
BEGIN:VEVENT
DTSTART:20241126T172000
DTEND:20241126T180000
SUMMARY:Dare/O'Keefe vs. Mayfield/Marston
DESCRIPTION:PUPC Tuesday Recreational - EarlyWinter24 - Paddle Up Pickleball Club
LOCATION:Court 8
CATEGORIES:QuickScores; Pickleball Game
TRANSP:0
DALARM:20241126T152000;PT10M;2;Dare/O'Keefe vs. Mayfield/Marston
END:VEVENT
BEGIN:VEVENT
DTSTART:20241126T180000
DTEND:20241126T184000
SUMMARY:Rosner/Rosner vs. Dare/O'Keefe
DESCRIPTION:PUPC Tuesday Recreational - EarlyWinter24 - Paddle Up Pickleball Club
LOCATION:Court 5
CATEGORIES:QuickScores; Pickleball Game
TRANSP:0
DALARM:20241126T160000;PT10M;2;Rosner/Rosner vs. Dare/O'Keefe
END:VEVENT
BEGIN:VEVENT
DTSTART:20241203T180000
DTEND:20241203T184000
SUMMARY:Russo/Russo vs. Dare/O'Keefe
DESCRIPTION:PUPC Tuesday Recreational - EarlyWinter24 - Paddle Up Pickleball Club
LOCATION:Court 8
CATEGORIES:QuickScores; Pickleball Game
TRANSP:0
DALARM:20241203T160000;PT10M;2;Russo/Russo vs. Dare/O'Keefe
END:VEVENT
BEGIN:VEVENT
DTSTART:20241203T184000
DTEND:20241203T192000
SUMMARY:Dare/O'Keefe vs. Kelting/Kelting
DESCRIPTION:PUPC Tuesday Recreational - EarlyWinter24 - Paddle Up Pickleball Club
LOCATION:Court 8
CATEGORIES:QuickScores; Pickleball Game
TRANSP:0
DALARM:20241203T164000;PT10M;2;Dare/O'Keefe vs. Kelting/Kelting
END:VEVENT
BEGIN:VEVENT
DTSTART:20241210T172000
DTEND:20241210T180000
SUMMARY:Garrett/Garrett vs. Dare/O'Keefe
DESCRIPTION:PUPC Tuesday Recreational - EarlyWinter24 - Paddle Up Pickleball Club
LOCATION:Court 7
CATEGORIES:QuickScores; Pickleball Game
TRANSP:0
DALARM:20241210T152000;PT10M;2;Garrett/Garrett vs. Dare/O'Keefe
END:VEVENT
BEGIN:VEVENT
DTSTART:20241210T180000
DTEND:20241210T184000
SUMMARY:Tureen/Springer vs. Dare/O'Keefe
DESCRIPTION:PUPC Tuesday Recreational - EarlyWinter24 - Paddle Up Pickleball Club
LOCATION:Court 7
CATEGORIES:QuickScores; Pickleball Game
TRANSP:0
DALARM:20241210T160000;PT10M;2;Tureen/Springer vs. Dare/O'Keefe
END:VEVENT
END:VCALENDAR
