BEGIN:VCALENDAR
VERSION:1.0
BEGIN:VEVENT
DTSTART:20241119T200000
DTEND:20241119T204000
SUMMARY:TStiers/RSchiffer vs. Rosner/Rosner
DESCRIPTION:PUPC Tuesday Recreational - EarlyWinter24 - Paddle Up Pickleball Club
LOCATION:Court 8
CATEGORIES:QuickScores; Pickleball Game
TRANSP:0
DALARM:20241119T180000;PT10M;2;TStiers/RSchiffer vs. Rosner/Rosner
END:VEVENT
BEGIN:VEVENT
DTSTART:20241119T204000
DTEND:20241119T212000
SUMMARY:Dare/O'Keefe vs. TStiers/RSchiffer
DESCRIPTION:PUPC Tuesday Recreational - EarlyWinter24 - Paddle Up Pickleball Club
LOCATION:Court 8
CATEGORIES:QuickScores; Pickleball Game
TRANSP:0
DALARM:20241119T184000;PT10M;2;Dare/O'Keefe vs. TStiers/RSchiffer
END:VEVENT
BEGIN:VEVENT
DTSTART:20241126T192000
DTEND:20241126T200000
SUMMARY:Segelle/Wu vs. TStiers/RSchiffer
DESCRIPTION:PUPC Tuesday Recreational - EarlyWinter24 - Paddle Up Pickleball Club
LOCATION:Court 5
CATEGORIES:QuickScores; Pickleball Game
TRANSP:0
DALARM:20241126T172000;PT10M;2;Segelle/Wu vs. TStiers/RSchiffer
END:VEVENT
BEGIN:VEVENT
DTSTART:20241126T204000
DTEND:20241126T212000
SUMMARY:TStiers/RSchiffer vs. Malloy/Robinson
DESCRIPTION:PUPC Tuesday Recreational - EarlyWinter24 - Paddle Up Pickleball Club
LOCATION:Court 5
CATEGORIES:QuickScores; Pickleball Game
TRANSP:0
DALARM:20241126T184000;PT10M;2;TStiers/RSchiffer vs. Malloy/Robinson
END:VEVENT
BEGIN:VEVENT
DTSTART:20241203T180000
DTEND:20241203T184000
SUMMARY:Rosner/Rosner vs. TStiers/RSchiffer
DESCRIPTION:PUPC Tuesday Recreational - EarlyWinter24 - Paddle Up Pickleball Club
LOCATION:Court 5
CATEGORIES:QuickScores; Pickleball Game
TRANSP:0
DALARM:20241203T160000;PT10M;2;Rosner/Rosner vs. TStiers/RSchiffer
END:VEVENT
BEGIN:VEVENT
DTSTART:20241203T184000
DTEND:20241203T192000
SUMMARY:TStiers/RSchiffer vs. Tureen/Springer
DESCRIPTION:PUPC Tuesday Recreational - EarlyWinter24 - Paddle Up Pickleball Club
LOCATION:Court 7
CATEGORIES:QuickScores; Pickleball Game
TRANSP:0
DALARM:20241203T164000;PT10M;2;TStiers/RSchiffer vs. Tureen/Springer
END:VEVENT
BEGIN:VEVENT
DTSTART:20241210T180000
DTEND:20241210T184000
SUMMARY:TStiers/RSchiffer vs. Struckmann/Struckmann
DESCRIPTION:PUPC Tuesday Recreational - EarlyWinter24 - Paddle Up Pickleball Club
LOCATION:Court 8
CATEGORIES:QuickScores; Pickleball Game
TRANSP:0
DALARM:20241210T160000;PT10M;2;TStiers/RSchiffer vs. Struckmann/Struckmann
END:VEVENT
BEGIN:VEVENT
DTSTART:20241210T184000
DTEND:20241210T192000
SUMMARY:TStiers/RSchiffer vs. Beaudoin/Boyle
DESCRIPTION:PUPC Tuesday Recreational - EarlyWinter24 - Paddle Up Pickleball Club
LOCATION:Court 7
CATEGORIES:QuickScores; Pickleball Game
TRANSP:0
DALARM:20241210T164000;PT10M;2;TStiers/RSchiffer vs. Beaudoin/Boyle
END:VEVENT
END:VCALENDAR
