BEGIN:VCALENDAR
VERSION:1.0
BEGIN:VEVENT
DTSTART:20241116T092000
DTEND:20241116T094000
SUMMARY:CamdenScobey/KrissyCox vs. DerekPollock/JannaPollock
DESCRIPTION:Fall Classic Doubles 9am 11/16 - Paddle Up Pickleball Club
LOCATION:Court 3
CATEGORIES:QuickScores; Pickleball Game
TRANSP:0
DALARM:20241116T072000;PT10M;2;CamdenScobey/KrissyCox vs. DerekPollock/JannaPollock
END:VEVENT
BEGIN:VEVENT
DTSTART:20241116T094000
DTEND:20241116T100000
SUMMARY:FrankFleming/PaulStewart vs. DerekPollock/JannaPollock
DESCRIPTION:Fall Classic Doubles 9am 11/16 - Paddle Up Pickleball Club
LOCATION:Court 2
CATEGORIES:QuickScores; Pickleball Game
TRANSP:0
DALARM:20241116T074000;PT10M;2;FrankFleming/PaulStewart vs. DerekPollock/JannaPollock
END:VEVENT
BEGIN:VEVENT
DTSTART:20241116T102000
DTEND:20241116T104000
SUMMARY:DerekPollock/JannaPollock vs. LonnieNeckermann/GwenBrooks
DESCRIPTION:Fall Classic Doubles 9am 11/16 - Paddle Up Pickleball Club
LOCATION:Court 2
CATEGORIES:QuickScores; Pickleball Game
TRANSP:0
DALARM:20241116T082000;PT10M;2;DerekPollock/JannaPollock vs. LonnieNeckermann/GwenBrooks
END:VEVENT
BEGIN:VEVENT
DTSTART:20241116T110000
DTEND:20241116T112000
SUMMARY:DerekPollock/JannaPollock vs. DeniseWunderlich/MikeWunderlich
DESCRIPTION:Fall Classic Doubles 9am 11/16 - Paddle Up Pickleball Club
LOCATION:Court 7
CATEGORIES:QuickScores; Pickleball Game
TRANSP:0
DALARM:20241116T090000;PT10M;2;DerekPollock/JannaPollock vs. DeniseWunderlich/MikeWunderlich
END:VEVENT
BEGIN:VEVENT
DTSTART:20241116T112000
DTEND:20241116T114000
SUMMARY:DerekPollock/JannaPollock vs. SteveDuBois/CherylDubois
DESCRIPTION:Fall Classic Doubles 9am 11/16 - Paddle Up Pickleball Club
LOCATION:Court 2
CATEGORIES:QuickScores; Pickleball Game
TRANSP:0
DALARM:20241116T092000;PT10M;2;DerekPollock/JannaPollock vs. SteveDuBois/CherylDubois
END:VEVENT
BEGIN:VEVENT
DTSTART:20241116T114000
DTEND:20241116T120000
SUMMARY:LisaHavens/LoganHavens vs. DerekPollock/JannaPollock
DESCRIPTION:Fall Classic Doubles 9am 11/16 - Paddle Up Pickleball Club
LOCATION:Court 7
CATEGORIES:QuickScores; Pickleball Game
TRANSP:0
DALARM:20241116T094000;PT10M;2;LisaHavens/LoganHavens vs. DerekPollock/JannaPollock
END:VEVENT
END:VCALENDAR
