BEGIN:VCALENDAR
VERSION:1.0
BEGIN:VEVENT
DTSTART:20241116T092000
DTEND:20241116T094000
SUMMARY:JulieTaylor/DanielleDuHadway vs. RobinFox/LindaRobben
DESCRIPTION:Fall Classic Doubles 9am 11/16 - Paddle Up Pickleball Club
LOCATION:Court 6
CATEGORIES:QuickScores; Pickleball Game
TRANSP:0
DALARM:20241116T072000;PT10M;2;JulieTaylor/DanielleDuHadway vs. RobinFox/LindaRobben
END:VEVENT
BEGIN:VEVENT
DTSTART:20241116T094000
DTEND:20241116T100000
SUMMARY:RobinFox/LindaRobben vs. CassandraKornfeld/ShannonStamper
DESCRIPTION:Fall Classic Doubles 9am 11/16 - Paddle Up Pickleball Club
LOCATION:Court 9
CATEGORIES:QuickScores; Pickleball Game
TRANSP:0
DALARM:20241116T074000;PT10M;2;RobinFox/LindaRobben vs. CassandraKornfeld/ShannonStamper
END:VEVENT
BEGIN:VEVENT
DTSTART:20241116T100000
DTEND:20241116T102000
SUMMARY:KellyBeard/HannaOechsner vs. RobinFox/LindaRobben
DESCRIPTION:Fall Classic Doubles 9am 11/16 - Paddle Up Pickleball Club
LOCATION:Court 9
CATEGORIES:QuickScores; Pickleball Game
TRANSP:0
DALARM:20241116T080000;PT10M;2;KellyBeard/HannaOechsner vs. RobinFox/LindaRobben
END:VEVENT
BEGIN:VEVENT
DTSTART:20241116T104000
DTEND:20241116T110000
SUMMARY:KellieKeling/LauraSwindler vs. RobinFox/LindaRobben
DESCRIPTION:Fall Classic Doubles 9am 11/16 - Paddle Up Pickleball Club
LOCATION:Court 4
CATEGORIES:QuickScores; Pickleball Game
TRANSP:0
DALARM:20241116T084000;PT10M;2;KellieKeling/LauraSwindler vs. RobinFox/LindaRobben
END:VEVENT
BEGIN:VEVENT
DTSTART:20241116T110000
DTEND:20241116T112000
SUMMARY:RobinFox/LindaRobben vs. DiannCage/BethLansing
DESCRIPTION:Fall Classic Doubles 9am 11/16 - Paddle Up Pickleball Club
LOCATION:Court 4
CATEGORIES:QuickScores; Pickleball Game
TRANSP:0
DALARM:20241116T090000;PT10M;2;RobinFox/LindaRobben vs. DiannCage/BethLansing
END:VEVENT
BEGIN:VEVENT
DTSTART:20241116T114000
DTEND:20241116T120000
SUMMARY:RobinFox/LindaRobben vs. AnnaDornquast/JenDuong
DESCRIPTION:Fall Classic Doubles 9am 11/16 - Paddle Up Pickleball Club
LOCATION:Court 1
CATEGORIES:QuickScores; Pickleball Game
TRANSP:0
DALARM:20241116T094000;PT10M;2;RobinFox/LindaRobben vs. AnnaDornquast/JenDuong
END:VEVENT
END:VCALENDAR
