BEGIN:VCALENDAR
VERSION:1.0
BEGIN:VEVENT
DTSTART:20240926T200000
DTEND:20240926T204000
SUMMARY:Team Windham vs. Team Breeding
DESCRIPTION:PUPC Thursday SQUADS League - Fall 24 - Paddle Up Pickleball Club
LOCATION:Court 2
CATEGORIES:QuickScores; Pickleball Game
TRANSP:0
DALARM:20240926T180000;PT10M;2;Team Windham vs. Team Breeding
END:VEVENT
BEGIN:VEVENT
DTSTART:20240926T210000
DTEND:20240926T214000
SUMMARY:Team Liston vs. Team Breeding
DESCRIPTION:PUPC Thursday SQUADS League - Fall 24 - Paddle Up Pickleball Club
LOCATION:Court 2
CATEGORIES:QuickScores; Pickleball Game
TRANSP:0
DALARM:20240926T190000;PT10M;2;Team Liston vs. Team Breeding
END:VEVENT
BEGIN:VEVENT
DTSTART:20241003T200000
DTEND:20241003T204000
SUMMARY:Team Richert vs. Team Breeding
DESCRIPTION:PUPC Thursday SQUADS League - Fall 24 - Paddle Up Pickleball Club
LOCATION:Court 7
CATEGORIES:QuickScores; Pickleball Game
TRANSP:0
DALARM:20241003T180000;PT10M;2;Team Richert vs. Team Breeding
END:VEVENT
BEGIN:VEVENT
DTSTART:20241003T210000
DTEND:20241003T214000
SUMMARY:Team Breeding vs. Team Lyell
DESCRIPTION:PUPC Thursday SQUADS League - Fall 24 - Paddle Up Pickleball Club
LOCATION:Court 7
CATEGORIES:QuickScores; Pickleball Game
TRANSP:0
DALARM:20241003T190000;PT10M;2;Team Breeding vs. Team Lyell
END:VEVENT
BEGIN:VEVENT
DTSTART:20241010T200000
DTEND:20241010T204000
SUMMARY:Team Breeding vs. Team Liston
DESCRIPTION:PUPC Thursday SQUADS League - Fall 24 - Paddle Up Pickleball Club
LOCATION:Court 5
CATEGORIES:QuickScores; Pickleball Game
TRANSP:0
DALARM:20241010T180000;PT10M;2;Team Breeding vs. Team Liston
END:VEVENT
BEGIN:VEVENT
DTSTART:20241010T210000
DTEND:20241010T214000
SUMMARY:Team Breeding vs. Team Link
DESCRIPTION:PUPC Thursday SQUADS League - Fall 24 - Paddle Up Pickleball Club
LOCATION:Court 6
CATEGORIES:QuickScores; Pickleball Game
TRANSP:0
DALARM:20241010T190000;PT10M;2;Team Breeding vs. Team Link
END:VEVENT
BEGIN:VEVENT
DTSTART:20241017T200000
DTEND:20241017T204000
SUMMARY:Team Breeding vs. Team Richert
DESCRIPTION:PUPC Thursday SQUADS League - Fall 24 - Paddle Up Pickleball Club
LOCATION:Court 5
CATEGORIES:QuickScores; Pickleball Game
TRANSP:0
DALARM:20241017T180000;PT10M;2;Team Breeding vs. Team Richert
END:VEVENT
BEGIN:VEVENT
DTSTART:20241017T210000
DTEND:20241017T214000
SUMMARY:Team Breeding vs. Team Windham
DESCRIPTION:PUPC Thursday SQUADS League - Fall 24 - Paddle Up Pickleball Club
LOCATION:Court 6
CATEGORIES:QuickScores; Pickleball Game
TRANSP:0
DALARM:20241017T190000;PT10M;2;Team Breeding vs. Team Windham
END:VEVENT
BEGIN:VEVENT
DTSTART:20241024T200000
DTEND:20241024T204000
SUMMARY:Team Lyell vs. Team Breeding
DESCRIPTION:PUPC Thursday SQUADS League - Fall 24 - Paddle Up Pickleball Club
LOCATION:Court 6
CATEGORIES:QuickScores; Pickleball Game
TRANSP:0
DALARM:20241024T180000;PT10M;2;Team Lyell vs. Team Breeding
END:VEVENT
BEGIN:VEVENT
DTSTART:20241024T210000
DTEND:20241024T214000
SUMMARY:Team Link vs. Team Breeding
DESCRIPTION:PUPC Thursday SQUADS League - Fall 24 - Paddle Up Pickleball Club
LOCATION:Court 2
CATEGORIES:QuickScores; Pickleball Game
TRANSP:0
DALARM:20241024T190000;PT10M;2;Team Link vs. Team Breeding
END:VEVENT
BEGIN:VEVENT
DTSTART:20241107T202000
DTEND:20241107T211000
SUMMARY:[1] Team Breeding vs. Winner of Game 1
DESCRIPTION:PUPC Thursday SQUADS League - Fall 24 - Paddle Up Pickleball Club
LOCATION:Court 2
CATEGORIES:QuickScores; Pickleball Game
TRANSP:0
DALARM:20241107T182000;PT10M;2;[1] Team Breeding vs. Winner of Game 1
END:VEVENT
END:VCALENDAR
