BEGIN:VCALENDAR
VERSION:1.0
BEGIN:VEVENT
DTSTART:20240915T180000
DTEND:20240915T184000
SUMMARY:White/Wilson vs. Brummell/Partner
DESCRIPTION:Forest Park Sunday LowInt./Rec. Lg - Fall 24 - Paddle Up Pickleball Club
LOCATION:DDTC Court 11S
CATEGORIES:QuickScores; Pickleball Game
TRANSP:0
DALARM:20240915T160000;PT10M;2;White/Wilson vs. Brummell/Partner
END:VEVENT
BEGIN:VEVENT
DTSTART:20240915T192000
DTEND:20240915T200000
SUMMARY:Twillmann/Doromal vs. Brummell/Partner
DESCRIPTION:Forest Park Sunday LowInt./Rec. Lg - Fall 24 - Paddle Up Pickleball Club
LOCATION:DDTC Court 12N
CATEGORIES:QuickScores; Pickleball Game
TRANSP:0
DALARM:20240915T172000;PT10M;2;Twillmann/Doromal vs. Brummell/Partner
END:VEVENT
BEGIN:VEVENT
DTSTART:20240922T180000
DTEND:20240922T184000
SUMMARY:Brummell/Partner vs. Carey-Ewend/Fishman
DESCRIPTION:Forest Park Sunday LowInt./Rec. Lg - Fall 24 - Paddle Up Pickleball Club
LOCATION:DDTC Court 21
CATEGORIES:QuickScores; Pickleball Game
TRANSP:0
DALARM:20240922T160000;PT10M;2;Brummell/Partner vs. Carey-Ewend/Fishman
END:VEVENT
BEGIN:VEVENT
DTSTART:20240922T184000
DTEND:20240922T192000
SUMMARY:Gorman/Gorman vs. Brummell/Partner
DESCRIPTION:Forest Park Sunday LowInt./Rec. Lg - Fall 24 - Paddle Up Pickleball Club
LOCATION:DDTC Court 11N
CATEGORIES:QuickScores; Pickleball Game
TRANSP:0
DALARM:20240922T164000;PT10M;2;Gorman/Gorman vs. Brummell/Partner
END:VEVENT
BEGIN:VEVENT
DTSTART:20241006T180000
DTEND:20241006T184000
SUMMARY:Aldrich/Rasche vs. Brummell/Partner
DESCRIPTION:Forest Park Sunday LowInt./Rec. Lg - Fall 24 - Paddle Up Pickleball Club
LOCATION:DDTC Court 11S
CATEGORIES:QuickScores; Pickleball Game
TRANSP:0
DALARM:20241006T160000;PT10M;2;Aldrich/Rasche vs. Brummell/Partner
END:VEVENT
BEGIN:VEVENT
DTSTART:20241006T184000
DTEND:20241006T192000
SUMMARY:Brummell/Partner vs. Laslo/Laslo
DESCRIPTION:Forest Park Sunday LowInt./Rec. Lg - Fall 24 - Paddle Up Pickleball Club
LOCATION:DDTC Court 21
CATEGORIES:QuickScores; Pickleball Game
TRANSP:0
DALARM:20241006T164000;PT10M;2;Brummell/Partner vs. Laslo/Laslo
END:VEVENT
BEGIN:VEVENT
DTSTART:20241013T180000
DTEND:20241013T184000
SUMMARY:Marusic/Marusic vs. Brummell/Partner
DESCRIPTION:Forest Park Sunday LowInt./Rec. Lg - Fall 24 - Paddle Up Pickleball Club
LOCATION:DDTC Court 13N
CATEGORIES:QuickScores; Pickleball Game
TRANSP:0
DALARM:20241013T160000;PT10M;2;Marusic/Marusic vs. Brummell/Partner
END:VEVENT
BEGIN:VEVENT
DTSTART:20241013T192000
DTEND:20241013T200000
SUMMARY:Carey-Ewend/Fishman vs. Brummell/Partner
DESCRIPTION:Forest Park Sunday LowInt./Rec. Lg - Fall 24 - Paddle Up Pickleball Club
LOCATION:DDTC Court 13N
CATEGORIES:QuickScores; Pickleball Game
TRANSP:0
DALARM:20241013T172000;PT10M;2;Carey-Ewend/Fishman vs. Brummell/Partner
END:VEVENT
BEGIN:VEVENT
DTSTART:20241020T180000
DTEND:20241020T184000
SUMMARY:Brummell/Partner vs. Tulyasathien/Hillman
DESCRIPTION:Forest Park Sunday LowInt./Rec. Lg - Fall 24 - Paddle Up Pickleball Club
LOCATION:DDTC Court 21
CATEGORIES:QuickScores; Pickleball Game
TRANSP:0
DALARM:20241020T160000;PT10M;2;Brummell/Partner vs. Tulyasathien/Hillman
END:VEVENT
BEGIN:VEVENT
DTSTART:20241020T192000
DTEND:20241020T200000
SUMMARY:Brummell/Partner vs. Laslo/Laslo
DESCRIPTION:Forest Park Sunday LowInt./Rec. Lg - Fall 24 - Paddle Up Pickleball Club
LOCATION:DDTC Court 22
CATEGORIES:QuickScores; Pickleball Game
TRANSP:0
DALARM:20241020T172000;PT10M;2;Brummell/Partner vs. Laslo/Laslo
END:VEVENT
END:VCALENDAR
