BEGIN:VCALENDAR
VERSION:1.0
BEGIN:VEVENT
DTSTART:20240915T180000
DTEND:20240915T184000
SUMMARY:Stewart/Stewart vs. Horlacher/Murray
DESCRIPTION:Forest Park Sunday LowInt./Rec. Lg - Fall 24 - Paddle Up Pickleball Club
LOCATION:DDTC Court 22
CATEGORIES:QuickScores; Pickleball Game
TRANSP:0
DALARM:20240915T160000;PT10M;2;Stewart/Stewart vs. Horlacher/Murray
END:VEVENT
BEGIN:VEVENT
DTSTART:20240915T184000
DTEND:20240915T192000
SUMMARY:Stewart/Stewart vs. Titzer/Suberi
DESCRIPTION:Forest Park Sunday LowInt./Rec. Lg - Fall 24 - Paddle Up Pickleball Club
LOCATION:DDTC Court 22
CATEGORIES:QuickScores; Pickleball Game
TRANSP:0
DALARM:20240915T164000;PT10M;2;Stewart/Stewart vs. Titzer/Suberi
END:VEVENT
BEGIN:VEVENT
DTSTART:20240922T184000
DTEND:20240922T192000
SUMMARY:Fox/Bara vs. Stewart/Stewart
DESCRIPTION:Forest Park Sunday LowInt./Rec. Lg - Fall 24 - Paddle Up Pickleball Club
LOCATION:DDTC Court 21
CATEGORIES:QuickScores; Pickleball Game
TRANSP:0
DALARM:20240922T164000;PT10M;2;Fox/Bara vs. Stewart/Stewart
END:VEVENT
BEGIN:VEVENT
DTSTART:20240922T192000
DTEND:20240922T200000
SUMMARY:Stewart/Stewart vs. Titzer/Suberi
DESCRIPTION:Forest Park Sunday LowInt./Rec. Lg - Fall 24 - Paddle Up Pickleball Club
LOCATION:DDTC Court 21
CATEGORIES:QuickScores; Pickleball Game
TRANSP:0
DALARM:20240922T172000;PT10M;2;Stewart/Stewart vs. Titzer/Suberi
END:VEVENT
BEGIN:VEVENT
DTSTART:20241006T180000
DTEND:20241006T184000
SUMMARY:Stewart/Stewart vs. Koester/Koester
DESCRIPTION:Forest Park Sunday LowInt./Rec. Lg - Fall 24 - Paddle Up Pickleball Club
LOCATION:DDTC Court 22
CATEGORIES:QuickScores; Pickleball Game
TRANSP:0
DALARM:20241006T160000;PT10M;2;Stewart/Stewart vs. Koester/Koester
END:VEVENT
BEGIN:VEVENT
DTSTART:20241006T192000
DTEND:20241006T200000
SUMMARY:Aldrich/Rasche vs. Stewart/Stewart
DESCRIPTION:Forest Park Sunday LowInt./Rec. Lg - Fall 24 - Paddle Up Pickleball Club
LOCATION:DDTC Court 11N
CATEGORIES:QuickScores; Pickleball Game
TRANSP:0
DALARM:20241006T172000;PT10M;2;Aldrich/Rasche vs. Stewart/Stewart
END:VEVENT
BEGIN:VEVENT
DTSTART:20241013T184000
DTEND:20241013T192000
SUMMARY:Laslo/Laslo vs. Stewart/Stewart
DESCRIPTION:Forest Park Sunday LowInt./Rec. Lg - Fall 24 - Paddle Up Pickleball Club
LOCATION:DDTC Court 11N
CATEGORIES:QuickScores; Pickleball Game
TRANSP:0
DALARM:20241013T164000;PT10M;2;Laslo/Laslo vs. Stewart/Stewart
END:VEVENT
BEGIN:VEVENT
DTSTART:20241013T192000
DTEND:20241013T200000
SUMMARY:Tulyasathien/Hillman vs. Stewart/Stewart
DESCRIPTION:Forest Park Sunday LowInt./Rec. Lg - Fall 24 - Paddle Up Pickleball Club
LOCATION:DDTC Court 11N
CATEGORIES:QuickScores; Pickleball Game
TRANSP:0
DALARM:20241013T172000;PT10M;2;Tulyasathien/Hillman vs. Stewart/Stewart
END:VEVENT
BEGIN:VEVENT
DTSTART:20241020T180000
DTEND:20241020T184000
SUMMARY:Fox/Bara vs. Stewart/Stewart
DESCRIPTION:Forest Park Sunday LowInt./Rec. Lg - Fall 24 - Paddle Up Pickleball Club
LOCATION:DDTC Court 13N
CATEGORIES:QuickScores; Pickleball Game
TRANSP:0
DALARM:20241020T160000;PT10M;2;Fox/Bara vs. Stewart/Stewart
END:VEVENT
BEGIN:VEVENT
DTSTART:20241020T192000
DTEND:20241020T200000
SUMMARY:Koester/Koester vs. Stewart/Stewart
DESCRIPTION:Forest Park Sunday LowInt./Rec. Lg - Fall 24 - Paddle Up Pickleball Club
LOCATION:DDTC Court 11N
CATEGORIES:QuickScores; Pickleball Game
TRANSP:0
DALARM:20241020T172000;PT10M;2;Koester/Koester vs. Stewart/Stewart
END:VEVENT
END:VCALENDAR
