BEGIN:VCALENDAR
VERSION:1.0
BEGIN:VEVENT
DTSTART:20240915T180000
DTEND:20240915T184000
SUMMARY:Stewart/Stewart vs. Horlacher/Murray
DESCRIPTION:Forest Park Sunday LowInt./Rec. Lg - Fall 24 - Paddle Up Pickleball Club
LOCATION:DDTC Court 22
CATEGORIES:QuickScores; Pickleball Game
TRANSP:0
DALARM:20240915T160000;PT10M;2;Stewart/Stewart vs. Horlacher/Murray
END:VEVENT
BEGIN:VEVENT
DTSTART:20240915T192000
DTEND:20240915T200000
SUMMARY:Horlacher/Murray vs. Titzer/Suberi
DESCRIPTION:Forest Park Sunday LowInt./Rec. Lg - Fall 24 - Paddle Up Pickleball Club
LOCATION:DDTC Court 22
CATEGORIES:QuickScores; Pickleball Game
TRANSP:0
DALARM:20240915T172000;PT10M;2;Horlacher/Murray vs. Titzer/Suberi
END:VEVENT
BEGIN:VEVENT
DTSTART:20240922T180000
DTEND:20240922T184000
SUMMARY:Horlacher/Murray vs. Laslo/Laslo
DESCRIPTION:Forest Park Sunday LowInt./Rec. Lg - Fall 24 - Paddle Up Pickleball Club
LOCATION:DDTC Court 13N
CATEGORIES:QuickScores; Pickleball Game
TRANSP:0
DALARM:20240922T160000;PT10M;2;Horlacher/Murray vs. Laslo/Laslo
END:VEVENT
BEGIN:VEVENT
DTSTART:20240922T192000
DTEND:20240922T200000
SUMMARY:Tulyasathien/Hillman vs. Horlacher/Murray
DESCRIPTION:Forest Park Sunday LowInt./Rec. Lg - Fall 24 - Paddle Up Pickleball Club
LOCATION:DDTC Court 11N
CATEGORIES:QuickScores; Pickleball Game
TRANSP:0
DALARM:20240922T172000;PT10M;2;Tulyasathien/Hillman vs. Horlacher/Murray
END:VEVENT
END:VCALENDAR
