BEGIN:VCALENDAR
VERSION:1.0
BEGIN:VEVENT
DTSTART:20240912T200000
DTEND:20240912T204000
SUMMARY:Maesaka/Proost vs. DuBois/Shouse
DESCRIPTION:FMG Thursday Rec Lg. -  Fall  2024 - Paddle Up Pickleball Club
LOCATION:FMG Court 6
CATEGORIES:QuickScores; Pickleball Game
TRANSP:0
DALARM:20240912T180000;PT10M;2;Maesaka/Proost vs. DuBois/Shouse
END:VEVENT
BEGIN:VEVENT
DTSTART:20240912T204000
DTEND:20240912T212000
SUMMARY:Stiers/Schiffer vs. Maesaka/Proost
DESCRIPTION:FMG Thursday Rec Lg. -  Fall  2024 - Paddle Up Pickleball Club
LOCATION:FMG Court 6
CATEGORIES:QuickScores; Pickleball Game
TRANSP:0
DALARM:20240912T184000;PT10M;2;Stiers/Schiffer vs. Maesaka/Proost
END:VEVENT
BEGIN:VEVENT
DTSTART:20240919T184000
DTEND:20240919T192000
SUMMARY:EvelynMabie/Stegner vs. Maesaka/Proost
DESCRIPTION:FMG Thursday Rec Lg. -  Fall  2024 - Paddle Up Pickleball Club
LOCATION:FMG Court 6
CATEGORIES:QuickScores; Pickleball Game
TRANSP:0
DALARM:20240919T164000;PT10M;2;EvelynMabie/Stegner vs. Maesaka/Proost
END:VEVENT
BEGIN:VEVENT
DTSTART:20240919T200000
DTEND:20240919T204000
SUMMARY:Maesaka/Proost vs. MatthewMabie/Hebson
DESCRIPTION:FMG Thursday Rec Lg. -  Fall  2024 - Paddle Up Pickleball Club
LOCATION:FMG Court 4
CATEGORIES:QuickScores; Pickleball Game
TRANSP:0
DALARM:20240919T180000;PT10M;2;Maesaka/Proost vs. MatthewMabie/Hebson
END:VEVENT
BEGIN:VEVENT
DTSTART:20241003T192000
DTEND:20241003T200000
SUMMARY:Maesaka/Proost vs. Goeke/Goeke
DESCRIPTION:FMG Thursday Rec Lg. -  Fall  2024 - Paddle Up Pickleball Club
LOCATION:FMG Court 4
CATEGORIES:QuickScores; Pickleball Game
TRANSP:0
DALARM:20241003T172000;PT10M;2;Maesaka/Proost vs. Goeke/Goeke
END:VEVENT
BEGIN:VEVENT
DTSTART:20241003T200000
DTEND:20241003T204000
SUMMARY:Kite/Kempker vs. Maesaka/Proost
DESCRIPTION:FMG Thursday Rec Lg. -  Fall  2024 - Paddle Up Pickleball Club
LOCATION:FMG Court 4
CATEGORIES:QuickScores; Pickleball Game
TRANSP:0
DALARM:20241003T180000;PT10M;2;Kite/Kempker vs. Maesaka/Proost
END:VEVENT
BEGIN:VEVENT
DTSTART:20241010T192000
DTEND:20241010T200000
SUMMARY:Maesaka/Proost vs. Zeisler/Zeisler
DESCRIPTION:FMG Thursday Rec Lg. -  Fall  2024 - Paddle Up Pickleball Club
LOCATION:FMG Court 6
CATEGORIES:QuickScores; Pickleball Game
TRANSP:0
DALARM:20241010T172000;PT10M;2;Maesaka/Proost vs. Zeisler/Zeisler
END:VEVENT
BEGIN:VEVENT
DTSTART:20241010T204000
DTEND:20241010T212000
SUMMARY:Baechle/Baechle vs. Maesaka/Proost
DESCRIPTION:FMG Thursday Rec Lg. -  Fall  2024 - Paddle Up Pickleball Club
LOCATION:FMG Court 6
CATEGORIES:QuickScores; Pickleball Game
TRANSP:0
DALARM:20241010T184000;PT10M;2;Baechle/Baechle vs. Maesaka/Proost
END:VEVENT
BEGIN:VEVENT
DTSTART:20241017T180000
DTEND:20241017T184000
SUMMARY:Maesaka/Proost vs. Rable/Rable
DESCRIPTION:FMG Thursday Rec Lg. -  Fall  2024 - Paddle Up Pickleball Club
LOCATION:FMG Court 5
CATEGORIES:QuickScores; Pickleball Game
TRANSP:0
DALARM:20241017T160000;PT10M;2;Maesaka/Proost vs. Rable/Rable
END:VEVENT
BEGIN:VEVENT
DTSTART:20241017T192000
DTEND:20241017T200000
SUMMARY:Wichern/Wichern vs. Maesaka/Proost
DESCRIPTION:FMG Thursday Rec Lg. -  Fall  2024 - Paddle Up Pickleball Club
LOCATION:FMG Court 4
CATEGORIES:QuickScores; Pickleball Game
TRANSP:0
DALARM:20241017T172000;PT10M;2;Wichern/Wichern vs. Maesaka/Proost
END:VEVENT
BEGIN:VEVENT
DTSTART:20241024T180000
DTEND:20241024T183000
SUMMARY:[8] Toeniskoetter/Toeniskoetter vs. [9] Maesaka/Proost
DESCRIPTION:FMG Thursday Rec Lg. -  Fall  2024 - Paddle Up Pickleball Club
LOCATION:FMG Court 2
CATEGORIES:QuickScores; Pickleball Game
TRANSP:0
DALARM:20241024T160000;PT10M;2;[8] Toeniskoetter/Toeniskoetter vs. [9] Maesaka/Proost
END:VEVENT
END:VCALENDAR
