BEGIN:VCALENDAR
VERSION:1.0
BEGIN:VEVENT
DTSTART:20240912T192000
DTEND:20240912T200000
SUMMARY:Goeke/Goeke vs. Baechle/Baechle
DESCRIPTION:FMG Thursday Rec Lg. -  Fall  2024 - Paddle Up Pickleball Club
LOCATION:FMG Court 4
CATEGORIES:QuickScores; Pickleball Game
TRANSP:0
DALARM:20240912T172000;PT10M;2;Goeke/Goeke vs. Baechle/Baechle
END:VEVENT
BEGIN:VEVENT
DTSTART:20240912T204000
DTEND:20240912T212000
SUMMARY:Baechle/Baechle vs. Rable/Rable
DESCRIPTION:FMG Thursday Rec Lg. -  Fall  2024 - Paddle Up Pickleball Club
LOCATION:FMG Court 5
CATEGORIES:QuickScores; Pickleball Game
TRANSP:0
DALARM:20240912T184000;PT10M;2;Baechle/Baechle vs. Rable/Rable
END:VEVENT
BEGIN:VEVENT
DTSTART:20240919T180000
DTEND:20240919T184000
SUMMARY:Baechle/Baechle vs. EvelynMabie/Stegner
DESCRIPTION:FMG Thursday Rec Lg. -  Fall  2024 - Paddle Up Pickleball Club
LOCATION:FMG Court 6
CATEGORIES:QuickScores; Pickleball Game
TRANSP:0
DALARM:20240919T160000;PT10M;2;Baechle/Baechle vs. EvelynMabie/Stegner
END:VEVENT
BEGIN:VEVENT
DTSTART:20240919T184000
DTEND:20240919T192000
SUMMARY:Baechle/Baechle vs. Toeniskoetter/Toeniskoetter
DESCRIPTION:FMG Thursday Rec Lg. -  Fall  2024 - Paddle Up Pickleball Club
LOCATION:FMG Court 4
CATEGORIES:QuickScores; Pickleball Game
TRANSP:0
DALARM:20240919T164000;PT10M;2;Baechle/Baechle vs. Toeniskoetter/Toeniskoetter
END:VEVENT
BEGIN:VEVENT
DTSTART:20241003T180000
DTEND:20241003T184000
SUMMARY:Stiers/Schiffer vs. Baechle/Baechle
DESCRIPTION:FMG Thursday Rec Lg. -  Fall  2024 - Paddle Up Pickleball Club
LOCATION:FMG Court 5
CATEGORIES:QuickScores; Pickleball Game
TRANSP:0
DALARM:20241003T160000;PT10M;2;Stiers/Schiffer vs. Baechle/Baechle
END:VEVENT
BEGIN:VEVENT
DTSTART:20241003T184000
DTEND:20241003T192000
SUMMARY:Zeisler/Zeisler vs. Baechle/Baechle
DESCRIPTION:FMG Thursday Rec Lg. -  Fall  2024 - Paddle Up Pickleball Club
LOCATION:FMG Court 5
CATEGORIES:QuickScores; Pickleball Game
TRANSP:0
DALARM:20241003T164000;PT10M;2;Zeisler/Zeisler vs. Baechle/Baechle
END:VEVENT
BEGIN:VEVENT
DTSTART:20241010T200000
DTEND:20241010T204000
SUMMARY:JennyBodmer/AngieSims vs. Baechle/Baechle
DESCRIPTION:FMG Thursday Rec Lg. -  Fall  2024 - Paddle Up Pickleball Club
LOCATION:FMG Court 6
CATEGORIES:QuickScores; Pickleball Game
TRANSP:0
DALARM:20241010T180000;PT10M;2;JennyBodmer/AngieSims vs. Baechle/Baechle
END:VEVENT
BEGIN:VEVENT
DTSTART:20241010T204000
DTEND:20241010T212000
SUMMARY:Baechle/Baechle vs. Maesaka/Proost
DESCRIPTION:FMG Thursday Rec Lg. -  Fall  2024 - Paddle Up Pickleball Club
LOCATION:FMG Court 6
CATEGORIES:QuickScores; Pickleball Game
TRANSP:0
DALARM:20241010T184000;PT10M;2;Baechle/Baechle vs. Maesaka/Proost
END:VEVENT
BEGIN:VEVENT
DTSTART:20241017T200000
DTEND:20241017T204000
SUMMARY:Summers/Stugart vs. Baechle/Baechle
DESCRIPTION:FMG Thursday Rec Lg. -  Fall  2024 - Paddle Up Pickleball Club
LOCATION:FMG Court 6
CATEGORIES:QuickScores; Pickleball Game
TRANSP:0
DALARM:20241017T180000;PT10M;2;Summers/Stugart vs. Baechle/Baechle
END:VEVENT
BEGIN:VEVENT
DTSTART:20241017T204000
DTEND:20241017T212000
SUMMARY:Baechle/Baechle vs. DuBois/Shouse
DESCRIPTION:FMG Thursday Rec Lg. -  Fall  2024 - Paddle Up Pickleball Club
LOCATION:FMG Court 6
CATEGORIES:QuickScores; Pickleball Game
TRANSP:0
DALARM:20241017T184000;PT10M;2;Baechle/Baechle vs. DuBois/Shouse
END:VEVENT
END:VCALENDAR
