BEGIN:VCALENDAR
VERSION:1.0
BEGIN:VEVENT
DTSTART:20240912T200000
DTEND:20240912T204000
SUMMARY:Rable/Rable vs. Hutson/Hutson
DESCRIPTION:FMG Thursday Rec Lg. -  Fall  2024 - Paddle Up Pickleball Club
LOCATION:FMG Court 4
CATEGORIES:QuickScores; Pickleball Game
TRANSP:0
DALARM:20240912T180000;PT10M;2;Rable/Rable vs. Hutson/Hutson
END:VEVENT
BEGIN:VEVENT
DTSTART:20240912T204000
DTEND:20240912T212000
SUMMARY:Baechle/Baechle vs. Rable/Rable
DESCRIPTION:FMG Thursday Rec Lg. -  Fall  2024 - Paddle Up Pickleball Club
LOCATION:FMG Court 5
CATEGORIES:QuickScores; Pickleball Game
TRANSP:0
DALARM:20240912T184000;PT10M;2;Baechle/Baechle vs. Rable/Rable
END:VEVENT
BEGIN:VEVENT
DTSTART:20240919T200000
DTEND:20240919T204000
SUMMARY:Rable/Rable vs. Wichern/Wichern
DESCRIPTION:FMG Thursday Rec Lg. -  Fall  2024 - Paddle Up Pickleball Club
LOCATION:FMG Court 5
CATEGORIES:QuickScores; Pickleball Game
TRANSP:0
DALARM:20240919T180000;PT10M;2;Rable/Rable vs. Wichern/Wichern
END:VEVENT
BEGIN:VEVENT
DTSTART:20240919T204000
DTEND:20240919T212000
SUMMARY:MatthewMabie/Hebson vs. Rable/Rable
DESCRIPTION:FMG Thursday Rec Lg. -  Fall  2024 - Paddle Up Pickleball Club
LOCATION:FMG Court 3
CATEGORIES:QuickScores; Pickleball Game
TRANSP:0
DALARM:20240919T184000;PT10M;2;MatthewMabie/Hebson vs. Rable/Rable
END:VEVENT
BEGIN:VEVENT
DTSTART:20241003T180000
DTEND:20241003T184000
SUMMARY:Reiter/Gregory vs. Rable/Rable
DESCRIPTION:FMG Thursday Rec Lg. -  Fall  2024 - Paddle Up Pickleball Club
LOCATION:FMG Court 6
CATEGORIES:QuickScores; Pickleball Game
TRANSP:0
DALARM:20241003T160000;PT10M;2;Reiter/Gregory vs. Rable/Rable
END:VEVENT
BEGIN:VEVENT
DTSTART:20241003T184000
DTEND:20241003T192000
SUMMARY:Rable/Rable vs. Stiers/Schiffer
DESCRIPTION:FMG Thursday Rec Lg. -  Fall  2024 - Paddle Up Pickleball Club
LOCATION:FMG Court 6
CATEGORIES:QuickScores; Pickleball Game
TRANSP:0
DALARM:20241003T164000;PT10M;2;Rable/Rable vs. Stiers/Schiffer
END:VEVENT
BEGIN:VEVENT
DTSTART:20241010T192000
DTEND:20241010T200000
SUMMARY:MatthewMabie/Hebson vs. Rable/Rable
DESCRIPTION:FMG Thursday Rec Lg. -  Fall  2024 - Paddle Up Pickleball Club
LOCATION:FMG Court 4
CATEGORIES:QuickScores; Pickleball Game
TRANSP:0
DALARM:20241010T172000;PT10M;2;MatthewMabie/Hebson vs. Rable/Rable
END:VEVENT
BEGIN:VEVENT
DTSTART:20241010T204000
DTEND:20241010T212000
SUMMARY:Rable/Rable vs. Kite/Kempker
DESCRIPTION:FMG Thursday Rec Lg. -  Fall  2024 - Paddle Up Pickleball Club
LOCATION:FMG Court 4
CATEGORIES:QuickScores; Pickleball Game
TRANSP:0
DALARM:20241010T184000;PT10M;2;Rable/Rable vs. Kite/Kempker
END:VEVENT
BEGIN:VEVENT
DTSTART:20241017T180000
DTEND:20241017T184000
SUMMARY:Maesaka/Proost vs. Rable/Rable
DESCRIPTION:FMG Thursday Rec Lg. -  Fall  2024 - Paddle Up Pickleball Club
LOCATION:FMG Court 5
CATEGORIES:QuickScores; Pickleball Game
TRANSP:0
DALARM:20241017T160000;PT10M;2;Maesaka/Proost vs. Rable/Rable
END:VEVENT
BEGIN:VEVENT
DTSTART:20241017T184000
DTEND:20241017T192000
SUMMARY:Rable/Rable vs. Toeniskoetter/Toeniskoetter
DESCRIPTION:FMG Thursday Rec Lg. -  Fall  2024 - Paddle Up Pickleball Club
LOCATION:FMG Court 4
CATEGORIES:QuickScores; Pickleball Game
TRANSP:0
DALARM:20241017T164000;PT10M;2;Rable/Rable vs. Toeniskoetter/Toeniskoetter
END:VEVENT
BEGIN:VEVENT
DTSTART:20241024T180000
DTEND:20241024T183000
SUMMARY:[4] Rable/Rable vs. [13] Goeke/Goeke
DESCRIPTION:FMG Thursday Rec Lg. -  Fall  2024 - Paddle Up Pickleball Club
LOCATION:FMG Court 4
CATEGORIES:QuickScores; Pickleball Game
TRANSP:0
DALARM:20241024T160000;PT10M;2;[4] Rable/Rable vs. [13] Goeke/Goeke
END:VEVENT
END:VCALENDAR
