BEGIN:VCALENDAR
VERSION:1.0
BEGIN:VEVENT
DTSTART:20240729T180000
DTEND:20240729T184000
SUMMARY:Divanbeigi/Molina vs. Thomas/Garrett
DESCRIPTION:Forest Park Monday High Int. Lg - Late Summer 24 - Paddle Up Pickleball Club
LOCATION:DDTC Court 12N
CATEGORIES:QuickScores; Pickleball Game
TRANSP:0
DALARM:20240729T160000;PT10M;2;Divanbeigi/Molina vs. Thomas/Garrett
END:VEVENT
BEGIN:VEVENT
DTSTART:20240729T192000
DTEND:20240729T200000
SUMMARY:Lansing/Cage vs. Thomas/Garrett
DESCRIPTION:Forest Park Monday High Int. Lg - Late Summer 24 - Paddle Up Pickleball Club
LOCATION:DDTC Court 11S
CATEGORIES:QuickScores; Pickleball Game
TRANSP:0
DALARM:20240729T172000;PT10M;2;Lansing/Cage vs. Thomas/Garrett
END:VEVENT
BEGIN:VEVENT
DTSTART:20240805T200000
DTEND:20240805T204000
SUMMARY:Thomas/Garrett vs. Thompson/Thompson
DESCRIPTION:Forest Park Monday High Int. Lg - Late Summer 24 - Paddle Up Pickleball Club
LOCATION:DDTC Court 11S
CATEGORIES:QuickScores; Pickleball Game
TRANSP:0
DALARM:20240805T180000;PT10M;2;Thomas/Garrett vs. Thompson/Thompson
END:VEVENT
BEGIN:VEVENT
DTSTART:20240805T204000
DTEND:20240805T212000
SUMMARY:Klohmann/Klohmann vs. Thomas/Garrett
DESCRIPTION:Forest Park Monday High Int. Lg - Late Summer 24 - Paddle Up Pickleball Club
LOCATION:DDTC Court 12N
CATEGORIES:QuickScores; Pickleball Game
TRANSP:0
DALARM:20240805T184000;PT10M;2;Klohmann/Klohmann vs. Thomas/Garrett
END:VEVENT
BEGIN:VEVENT
DTSTART:20240819T184000
DTEND:20240819T192000
SUMMARY:Thomas/Garrett vs. Gorman/Gorman
DESCRIPTION:Forest Park Monday High Int. Lg - Late Summer 24 - Paddle Up Pickleball Club
LOCATION:DDTC Court 11N
CATEGORIES:QuickScores; Pickleball Game
TRANSP:0
DALARM:20240819T164000;PT10M;2;Thomas/Garrett vs. Gorman/Gorman
END:VEVENT
BEGIN:VEVENT
DTSTART:20240819T192000
DTEND:20240819T200000
SUMMARY:Shayotovich/Hatzigeorgiou vs. Thomas/Garrett
DESCRIPTION:Forest Park Monday High Int. Lg - Late Summer 24 - Paddle Up Pickleball Club
LOCATION:DDTC Court 11N
CATEGORIES:QuickScores; Pickleball Game
TRANSP:0
DALARM:20240819T172000;PT10M;2;Shayotovich/Hatzigeorgiou vs. Thomas/Garrett
END:VEVENT
BEGIN:VEVENT
DTSTART:20240826T184000
DTEND:20240826T192000
SUMMARY:Thomas/Garrett vs. Gustafson/Bolton
DESCRIPTION:Forest Park Monday High Int. Lg - Late Summer 24 - Paddle Up Pickleball Club
LOCATION:DDTC Court 12N
CATEGORIES:QuickScores; Pickleball Game
TRANSP:0
DALARM:20240826T164000;PT10M;2;Thomas/Garrett vs. Gustafson/Bolton
END:VEVENT
BEGIN:VEVENT
DTSTART:20240826T192000
DTEND:20240826T200000
SUMMARY:Thomas/Garrett vs. Worley/Minton
DESCRIPTION:Forest Park Monday High Int. Lg - Late Summer 24 - Paddle Up Pickleball Club
LOCATION:DDTC Court 11S
CATEGORIES:QuickScores; Pickleball Game
TRANSP:0
DALARM:20240826T172000;PT10M;2;Thomas/Garrett vs. Worley/Minton
END:VEVENT
BEGIN:VEVENT
DTSTART:20240909T200000
DTEND:20240909T204000
SUMMARY:Thomas/Garrett vs. Hernandez/Reichert2
DESCRIPTION:Forest Park Monday High Int. Lg - Late Summer 24 - Paddle Up Pickleball Club
LOCATION:DDTC Court 11N
CATEGORIES:QuickScores; Pickleball Game
TRANSP:0
DALARM:20240909T180000;PT10M;2;Thomas/Garrett vs. Hernandez/Reichert2
END:VEVENT
BEGIN:VEVENT
DTSTART:20240909T204000
DTEND:20240909T212000
SUMMARY:Thomas/Garrett vs. Divanbeigi/Molina
DESCRIPTION:Forest Park Monday High Int. Lg - Late Summer 24 - Paddle Up Pickleball Club
LOCATION:DDTC Court 12S
CATEGORIES:QuickScores; Pickleball Game
TRANSP:0
DALARM:20240909T184000;PT10M;2;Thomas/Garrett vs. Divanbeigi/Molina
END:VEVENT
END:VCALENDAR
