BEGIN:VCALENDAR
VERSION:1.0
BEGIN:VEVENT
DTSTART:20240721T090000
DTEND:20240721T092500
SUMMARY:NickBorger/LibbyPeterson vs. KevinAshley/DebbieMenke
DESCRIPTION:Club Championship - Mixed 9am Sun - Paddle Up Pickleball Club
LOCATION:Court 6
CATEGORIES:QuickScores; Pickleball Game
TRANSP:0
DALARM:20240721T070000;PT10M;2;NickBorger/LibbyPeterson vs. KevinAshley/DebbieMenke
END:VEVENT
BEGIN:VEVENT
DTSTART:20240721T095000
DTEND:20240721T101500
SUMMARY:PaigeReque/KevinReque vs. NickBorger/LibbyPeterson
DESCRIPTION:Club Championship - Mixed 9am Sun - Paddle Up Pickleball Club
LOCATION:Court 6
CATEGORIES:QuickScores; Pickleball Game
TRANSP:0
DALARM:20240721T075000;PT10M;2;PaigeReque/KevinReque vs. NickBorger/LibbyPeterson
END:VEVENT
BEGIN:VEVENT
DTSTART:20240721T101500
DTEND:20240721T104000
SUMMARY:NickBreeding/ErinSmith vs. NickBorger/LibbyPeterson
DESCRIPTION:Club Championship - Mixed 9am Sun - Paddle Up Pickleball Club
LOCATION:Court 5
CATEGORIES:QuickScores; Pickleball Game
TRANSP:0
DALARM:20240721T081500;PT10M;2;NickBreeding/ErinSmith vs. NickBorger/LibbyPeterson
END:VEVENT
BEGIN:VEVENT
DTSTART:20240721T110500
DTEND:20240721T113000
SUMMARY:NickBorger/LibbyPeterson vs. GarrettHallemeier/MichelleBeattie
DESCRIPTION:Club Championship - Mixed 9am Sun - Paddle Up Pickleball Club
LOCATION:Court 9
CATEGORIES:QuickScores; Pickleball Game
TRANSP:0
DALARM:20240721T090500;PT10M;2;NickBorger/LibbyPeterson vs. GarrettHallemeier/MichelleBeattie
END:VEVENT
BEGIN:VEVENT
DTSTART:20240721T113000
DTEND:20240721T115500
SUMMARY:JonRichert/KellyRichert vs. NickBorger/LibbyPeterson
DESCRIPTION:Club Championship - Mixed 9am Sun - Paddle Up Pickleball Club
LOCATION:Court 7
CATEGORIES:QuickScores; Pickleball Game
TRANSP:0
DALARM:20240721T093000;PT10M;2;JonRichert/KellyRichert vs. NickBorger/LibbyPeterson
END:VEVENT
END:VCALENDAR
